BEGIN:VCALENDAR
VERSION:2.0
PRODID:-//kirjastotfi/procal//NONSGML v1.0//EN
BEGIN:VEVENT
DTSTART:20250930T123000
DTEND:20250930T150000
SUMMARY:Tyynesti Liboppiin -rohkaisuiltapäivä
DESCRIPTION:<p><strong>AKE-kirjastot kutsuvat kaikki mukaan yhteiseen Liboppi-iltapäivään!</strong></p><p><strong>Tervetuloa mukaan inspiroivaan koulutusiltapäivään, jossa tutustutaan Liboppi-oppimisalustan mahdollisuuksiin ja kuullaan käytännön kokemuksia sen hyödyntämisestä eri puolilta Suomea. Tilaisuus on avoin kaikille Libopista ja sen sisällöistä kiinnostuneille erityisesti sinulle, jolle Liboppi on vielä uusi tuttavuus!&nbsp;</strong></p><p><strong>Aika &amp; paikka:</strong> ti 30.9. klo 12.30–15.00 Teamsissä</p><p>Tilaisuutta ei tallenneta.&nbsp;</p><p><a href="https://www.lyyti.fi/reg/Tyynesti_Liboppiin">Ilmoittautuminen viimeistään ma 29.9</a></p><h4><strong>Ohjelma:</strong></h4><p>klo 12.30–12.45 Tulevia suuntaviivoja osaamisen kehittämiseen: Osaamisen poluilla -julkaisun esittely ja käyttö.&nbsp;</p><p>klo 12.45–13.45 Vuorovaikutus ja kuulluksi tuleminen verkko-opiskelussa: teoriasta käytäntöön/ Heli Tyrväinen ja Sanna Uotinen, Jyväskylän yliopisto, avoin yliopisto</p><p>klo 13.45–14.00 Tauko</p><p>Klo 14.00–15.00 Mistä aikaa oppimiselle? Puheenvuoroja kirjastoista sekä yhteistä keskustelua</p><ul><li>Kittilän kirjasto</li><li>Kuhmoisten kirjasto</li><li>Tarkentuu</li></ul><p><em>Ai mikä&nbsp;Liboppi?&nbsp;Liboppi&nbsp;on Suomen yleisten kirjastojen henkilökunnalle suunnattu verkko-oppimisympäristö osoitteessa liboppi.fi.&nbsp;Libopista&nbsp;löydät kirjastoalan ammattilaisille tarkoitettuja verkkokursseja, joita voit opiskella verkossa ajasta ja paikasta riippumatta.</em></p><p>&nbsp;</p><p><strong>Lisätiedot oman alueen ake-koordinaattoreilta</strong></p><p>&nbsp;</p>
LOCATION:Teams
END:VEVENT
END:VCALENDAR