BEGIN:VCALENDAR
VERSION:2.0
PRODID:-//kirjastotfi/procal//NONSGML v1.0//EN
BEGIN:VEVENT
DTSTART:20251028T090000
DTEND:20251028T154500
SUMMARY:Vertaistapaaminen nuortenkirjastotyötä tekeville
DESCRIPTION:<p>Hei kirjastolainen! Kohtaatko työssäsi nuoria? Tarvitsetko uusia ideoita ja vertaistukea nuorten kanssa toimimiseen kirjastossa? Jos vastasit kyllä, tämä koulutuspäivä on sinulle!</p><p>Tervetuloa Tikkurilan kirjastoon 28.10. tapaamaan muita nuorten kanssa työskenteleviä! Päivän pääteemana on kirjastossa vapaa-ajallaan olevien nuorten kanssa työskentely. Koulutuspäivän järjestävät yhteistyössä AKE Porvoo ja Vantaan kaupunginkirjasto.</p><h2>Kenelle?</h2><p>Koulutus on suunnattu kaikille Uudenmaan yleisten kirjastojen työntekijöille, joiden työnkuvaan kuuluu nuortenkirjastotyö. Koulutus soveltuu myös heille, jotka kohtaavat päivittäin nuoria kirjastossa. Mukaan mahtuu 30 osallistujaa.</p><h2>Päivän tavoite</h2><p>Saada muilta kollegoilta uusia ideoita, työkaluja ja oivalluksia vapaa-ajallaan kirjastossa hengailevien nuorten kanssa toimimiseen. Päivän aikana opitaan, inspiroidutaan, verkostoidutaan, saadaan henkisiä voimavaroja ja ratkotaan pulmia nuorten kanssa työskentelyyn liittyen.</p><p>Päivän ohjelmaan sisältyy ryhmätöitä, keskustelua, vierailu läheisellä nuorisotilalla ja Mieli Ry:n räätälöity koulutus työssäjaksamisesta.</p><h2>Alustava ohjelma</h2><p>Klo 8.30–9.00 AKE Porvoo tarjoaa kahvia, teetä ja sämpylän<br>Klo 9–9.10 Yhteinen aloitus: erikoiskirjastonhoitaja Elisa Makkonen, Vantaan kaupunginkirjasto<br>Klo 9.10–10.20 Onnistuneet tapahtumat ja tapausesimerkit nuorten kanssa: tapausesimerkkien käsittelyä pienryhmissä, jalostetaan ideoita ja esitellään nämä kaikille<br>10.20–10.30 Tauko<br>Klo 10.30–11 Vierailu läheisellä nuorisotalolla (Tikkurilan nuorisotila Liito)<br>Klo 11.00–12.00 Haastavat nuoret kirjastossa: keskustelutilaisuus ja ratkaisuehdotuksia<br>Klo 12.00–12.50 Omakustanteinen lounas ja mahdollisuus tutustua kollegoihin<br>Klo 13.00–15.30 Koulutus mielen hyvinvoinnista nuorten kanssa työskenteleville, kouluttajana Kirsi Nurminen, Mieli ry<br>Klo 15.30–15.45 Yhteinen lopetus, Elisa Makkonen</p><h2>Lisätietoja</h2><p>Elisa Makkonen, erikoiskirjastonhoitaja, Vantaan kaupunginkirjasto, elisa.makkonen@vantaa.fi, 040 594 2481<br>Tiina Rajala, informaatikko, AKE Porvoo, tiina.rajala@porvoo.fi, 040 539 6368&nbsp;</p><h2>Ilmoittautuminen</h2><p>Ilmoittautuminen vertaistapaamiseen avautuu elokuussa.</p><p>&nbsp;</p>
LOCATION:Tikkurilan kirjasto, Lummetie 4, 01300 Vantaa
END:VEVENT
END:VCALENDAR