BEGIN:VCALENDAR
VERSION:2.0
PRODID:-//kirjastotfi/procal//NONSGML v1.0//EN
BEGIN:VEVENT
DTSTART:20251003T090000
DTEND:20251003T160000
SUMMARY:Inspiraatiota, iloa, ideoita! Satutuokiot eläviksi
DESCRIPTION:<p><strong>Tule mukaan AKE Porvoon toiminnalliseen satutuokiopäivään ja löydä uusia tapoja elävöittää satuhetkiä!</strong></p><p>Päivä koostuu inspiroivista kirjastoammattilaisten puheenvuoroista ja niiden reflektoinnista. Päivän keskusteluja ohjaa kokenut kouluttaja, työnohjaaja ja draamapedagogi <strong>Jutta Laino-Tabell</strong>. Omia esimerkkejään jakavat <strong>Jenna Nokkala</strong> Helsingistä, <strong>Milla Helminen</strong> Hyvinkäältä ja <strong>Agneta Möller-Salmela</strong> Hangosta. Lisäksi osallistujat pääsevät päivän aikana halutessaan jakamaan toisilleen parhaat vinkkinsä satuhetkien elävöittämiseen.</p><p>Päivän teemoja ovat muun muassa toiminnalliset vinkit satuhetkiin, lasten osallistaminen, AV-välineiden käyttö, satuhetkien räätälöinti erilaisiin tilanteisiin ja erityisryhmille, oman sadunkerrontatavan ja -tyylin löytäminen, ryhmän hallinta ja tilan merkitys satuhetkissä.</p><h2>Alustava ohjelma</h2><p>8.45-9.15 AKE tarjoaa aamukahvia ja -teetä<br>9.15-9.30 <strong>Päivän aloitus </strong>/ Tiina Rajala, AKE Porvoo &amp; Jutta Laino-Tabell, Ohjaamo<br>9.30-10.30 <strong>Uuden ajan satutunti: Menetelmiä lasten osallistamiseen ja toiminnallisuuteen</strong> / Erikoiskirjastovirkailija Jenna Nokkala, Jätkäsaaren kirjasto<br>10.30-10.45 Tauko<br>10.45-11.45 <strong>Löydä oma sadunkerrontatapasi ja tavoita yleisösi!</strong> / Kirjastonhoitaja Milla Helminen, Hyvinkään kaupunginkirjasto<br>11.45-12 <strong>Aamupäivän yhteenveto</strong> / Jutta Laino-Tabell<br>12-13 Lounas (omakustanteinen)<br>13-14.14.15 <strong>Tila ja tilanne haltuun </strong>/ Erikoiskirjastovirkailija Agneta Möller-Salmela, Hangon kaupunginkirjasto<br>14.15-14.30 AKE tarjoaa kahvia ja teetä<br>14.30-14.45 <strong>Iltapäivän yhteenveto</strong> / Jutta Laino-Tabell<br>14.45-15.45 <strong>Työskentelyä: Oivalluksista osaamisiksi</strong> / Jutta Laino- Tabell<br>15.45-16 <strong>Yhteinen lopetus</strong></p><h2>Kenelle?</h2><p>Koulutuspäivä on suunnattu Uudenmaan yleisissä kirjastoissa työskenteleville. Päivän sisällöistä on hyötyä erityisesti pienten alle kouluikäisten lasten ja lapsiryhmien kanssa toimiville. Mukaan mahtuu 30 osallistujaa.</p><p><strong>Tehtävä osallistujille: </strong>Tuo mukana joku esine/kuva/vinkki, jota käytät usein tai jota voisit ajatella käyttäväsi satutuokiossa apuna.</p><h2>Lisätiedot ja ilmoittautuminen</h2><p>Ilmoittaudu mukaan viimeistään 25.9. seuraavasta linkistä:</p><p><a href="https://link.webropolsurveys.com/EP/50DFB6152BAB891E">Ilmoittautuminen satutuokiopäivään</a></p><p>&nbsp;</p>
LOCATION:Töölön kirjasto, Topeliuksenkatu 6, Helsinki
END:VEVENT
END:VCALENDAR