BEGIN:VCALENDAR
VERSION:2.0
PRODID:-//kirjastotfi/procal//NONSGML v1.0//EN
BEGIN:VEVENT
DTSTART:20250523T093000
DTEND:20250523T103000
SUMMARY:Lukutaitokahvit: Lukutaidon eväitä elämän reppuun
DESCRIPTION:<p>AKE Porvoon lukutaitokahveilla tutustutaan Lohjan kaupunginkirjastossa käynnissä olevaan hankkeeseen <em>Lukutaidon eväitä elämän reppuun</em>. Hankkeen tavoitteena on kehittää ja toteuttaa monipuolista lukutaitotyötä yläkouluille, lukioille ja toisen asteen oppilaitoksille.</p><p>Lukutaitokahveilla lukukoordinaattori <strong>Mervi Takatalo</strong> kertoo tarkemmin, millaisia lukutaitoon liittyviä sisältöjä hankkeen parissa on kokeiltu. Hankkeeseen on tähän mennessä kuulunut niin työpajoja, tapahtumia kuin sometempauksiakin.</p><p>Esityksen jälkeen on aikaa kysymyksille, kommenteille ja yhteiselle keskustelulle.</p><p>AKE Porvoon lukutaitokahveille ovat tervetulleita kaikki lukutaitotyöstä kiinnostuneet. Tilaisuutta ei nauhoiteta.</p><h2>Osallistumislinkki kahveille</h2><p>Ota kupponen kahvia tai teetä ja tule mukaan etäkahveille seuraavasta linkistä:</p><p><a href="https://teams.microsoft.com/l/meetup-join/19%3ameeting_NGZkZTIzNGYtYzhhNi00N2RjLTkwNDYtODllZDZjMTZlOTkx%40thread.v2/0?context=%7b%22Tid%22%3a%22ca8dd34c-ed0b-4236-92cb-5644bfcfaed6%22%2c%22Oid%22%3a%22c914ca2e-6e3f-4481-9fe5-d5b562bcbc61%22%7d">Osallistumislinkki lukutaitokahveille</a></p>
LOCATION:Teams
END:VEVENT
END:VCALENDAR