BEGIN:VCALENDAR
VERSION:2.0
PRODID:-//kirjastotfi/procal//NONSGML v1.0//EN
BEGIN:VEVENT
DTSTART:20250605T120000
DTEND:20250606T150000
SUMMARY:Kirjasto - lukutaidon aktivisti? Itä-Suomen kirjastopäivät 2025
DESCRIPTION:<p><strong>Kirjasto - lukutaidon aktivisti? Itä-Suomen kirjastopäivät 2025</strong></p><p>Itä-Suomen kirjastopäivät järjestetään Joensuussa 5.-6.6.2025.</p><p>Kirjastopäivät kokoaa yhteen kirjastoalan ammattilaiset kaikilta kirjastosektoreilta ympäri Itä-Suomea.</p><p>Kirjastopäivien teema vuonna 2025 on lukutaito. Pohdimme lukutaidon monimuotoisuutta, ja sitä, miten kirjastot voivat vastata muuttuviin haasteisiin ja tarpeisiin. Päivien aikana käsittelemme lukutaidon merkitystä ja sen heikentymisen vaikutuksia yhteiskunnassamme. Torstain päättää iltatilaisuus, jossa on mahdollisuus vapaamuotoiseen seurusteluun kollegoiden kanssa.</p><p>Kirjastopäivät järjestävät Itä-Suomen aluehallintovirasto, Itä-Suomen yliopiston kirjasto, Joensuun AKE, Joensuun seutukirjasto ja Karelia-ammattikorkeakoulu.</p><p>&nbsp;</p>
LOCATION:Auditorio AU100, Aurora-rakennus
END:VEVENT
END:VCALENDAR