BEGIN:VCALENDAR
VERSION:2.0
PRODID:-//kirjastotfi/procal//NONSGML v1.0//EN
BEGIN:VEVENT
DTSTART:20250520T093000
DTEND:20250520T110000
SUMMARY:Kokoelmakahvit: Vieraskielisen kirjallisuuden hankinta
DESCRIPTION:<p>AKE Porvoon kokoelmakahveilla 20.5. pohditaan muiden kuin kotimaisten kielten roolia yleisen kirjaston kokoelmissa. Millaiset näkökohdat ohjaavat vieraskielisen kokoelman kehittämistä? Miten löytää englanninkielisen kirjallisuuden laajasta tarjonnasta omaan kirjastoon olennainen? Miten päästä alkuun harvinaisemman kielen kokoelman perustamisessa?</p><p>Kokoelmakahvien keskusteluun johdattavat Helsingin kaupunginkirjastosta kokoelma- ja metatietoyksikön päällikkö <strong>Suvi Sivulainen</strong>, englanninkielisen kirjallisuuden valintaryhmän vetäjä <strong>Kirsi Siika-aho</strong> sekä sisältötiimien vastuuinformaatikko ja englanninkielisen kirjallisuuden valintaryhmän jäsen <strong>Piita Kiviaho</strong>. <strong>Riitta Hämäläinen</strong> monikielisestä kirjastosta kertoo miten kannattaa menetellä, jos haluaa kokoelmaansa vähemmän yleisen kielen kirjallisuutta.</p><p>AKE Porvoon kokoelmakahveille ovat tervetulleita kaikki kirjaston kokoelmien kehittämisestä kiinnostuneet. Tilaisuutta ei nauhoiteta. Jos haluat ehdottaa aihetta tuleville kokoelmakahveille, ole yhteydessä AKE Porvooseen.</p><p><a href="https://teams.microsoft.com/l/meetup-join/19%3ameeting_NzIyM2VmZTAtMTMxOC00MTljLWEzNmEtMGZmMjM0OGFhMGEz%40thread.v2/0?context=%7b%22Tid%22%3a%22ca8dd34c-ed0b-4236-92cb-5644bfcfaed6%22%2c%22Oid%22%3a%2251f7aaa5-6f70-4662-8e6d-4a11664115ff%22%7d">Liity kokoelmakahveille tästä linkistä</a></p><p><br>&nbsp;</p><p>&nbsp;</p>
LOCATION:Teams
END:VEVENT
END:VCALENDAR