BEGIN:VCALENDAR
VERSION:2.0
PRODID:-//kirjastotfi/procal//NONSGML v1.0//EN
BEGIN:VEVENT
DTSTART:20250520T140000
DTEND:20250520T150000
SUMMARY:Toukokuun lastenkirjakahvit
DESCRIPTION:<p>Kevään viimeiset lastenkirjakahvit järjestetään tiistaina 20.5. klo 14-15.</p><p>Lastenkirjakahveilla keskustellaan ajankohtaisista lasten- ja nuortenkirjoista. Voit esitellä lukemasi kirjan tai tulla kuuntelemaan, mitä muut ovat lukeneet.</p><p>Tapahtuma järjestetään Teams-etäyhteydellä. <a href="https://bit.ly/toukokuunlastenkirjakahvit25">Linkki Teams tapahtumaan</a>.</p><p>Lastenkirjakahveille ovat tervetulleita kaikki lasten- ja nuortenkirjallisuudesta kiinnostuneet aikuiset!</p>
LOCATION:
END:VEVENT
END:VCALENDAR