BEGIN:VCALENDAR
VERSION:2.0
PRODID:-//kirjastotfi/procal//NONSGML v1.0//EN
BEGIN:VEVENT
DTSTART:20250513T090000
DTEND:20250513T093000
SUMMARY:Celian kyselytunti kirjastoille
DESCRIPTION:<p>Kevään&nbsp;kyselytunti Teamsissa tiistaina 13.5.2025 klo 9.00 – 9.30. Aiheina Celian CD-levyistä verkkokuunteluun, uutena laitekuuntelu, syksyn koulutukset Celian verkkopalveluiden käytöstä asiakkaille ja yhteyshenkilöille ja Ruotsin Legimus-kokoelman kirjojen lainaaminen.</p><p>Tervetuloa mukaan! Ei ennakkoilmoittautumista.&nbsp;</p>
LOCATION:verkossa
END:VEVENT
END:VCALENDAR