BEGIN:VCALENDAR
VERSION:2.0
PRODID:-//kirjastotfi/procal//NONSGML v1.0//EN
BEGIN:VEVENT
DTSTART:20251008T090000
DTEND:20251008T103000
SUMMARY:Ennakkotieto: Kirjastoseuran asiakaspalvelutyöryhmän etäaamukahvit
DESCRIPTION:<p>Ohjelma tarkentuu, mutta varaa kalenteriisi asiakaspalvelun aamukahvit, joilla pääset verkostotitumaan ja jakamaan kokemuksia työn priorisoinnista.</p>
LOCATION:
END:VEVENT
END:VCALENDAR