BEGIN:VCALENDAR
VERSION:2.0
PRODID:-//kirjastotfi/procal//NONSGML v1.0//EN
BEGIN:VEVENT
DTSTART:20250516T113000
DTEND:20250516T160000
SUMMARY:Sanataidefoorumi
DESCRIPTION:<p>Seuraava Sanataidefoorumi järjestetään <strong>Tampereella 16.5.2025</strong> pääkirjasto Metsossa (luentosalit Kuusi &amp; Pihlaja). Kevään foorumissa paneudutaan kysymykseen sanataideopettajan koulutuspolusta sekä kuullaan parhaat palat Hehkuvat sanat -lukutaitohankkeen sisällöistä, opeista ja kokemuksista. Foorumissa on mahdollisuus osallistua sanataidetyöpajaan. Osa ohjelmasta on ruotsin kielellä. Tilaisuus on kaikille avoin ja maksuton.</p><p>Ilmoittaudu Sanataidefoorumiin viimeistään 12.5.</p>
LOCATION:Pääkirjasto Metso (Luentosalit Kuusi ja Pihlaja)
END:VEVENT
END:VCALENDAR