BEGIN:VCALENDAR
VERSION:2.0
PRODID:-//kirjastotfi/procal//NONSGML v1.0//EN
BEGIN:VEVENT
DTSTART:20250507T130000
DTEND:20250507T154000
SUMMARY:Kirjastojen itsearviointi -koulutussarja, osa 3: Tilat
DESCRIPTION:<p>Yleisten kirjastojen tilat ovat yksi erittäin keskeinen ja samalla hyvin pysyvä resurssi. Tiloihin liittyy teknisiä ja toiminnallisia odotuksia, tarpeita sekä vaatimuksia, jotka ajan myötä muuttuvat. Kirjastolain mukaan yleisellä kirjastolla tulee olla tarkoituksenmukaiset tilat ja ajantasainen välineistö kunnalle annettujen tehtävien toteuttamiseksi. Lisäksi yleisen kirjaston tulee olla kaikkien käytettävissä ja saavutettavissa.</p><p>Kirjastolain 16 § mukaan kunnan on arvioitava yleisen kirjaston toimintaa. Arvioinnin tarkoituksena on turvata kirjastolain tarkoituksen toteutuminen ja tukea yleisen kirjaston toiminnan kehittämistä.</p><p dir="ltr">Aluehallintovirastojen kirjastotoimi järjestää vuonna 2025 webinaarisarjan, jossa tarjotaan näkökulmia kirjastotoiminnan arviointiin. Kolmannen webinaarin aiheena on kirjaston tilat ja niiden arviointi.</p><h2 dir="ltr">Ohjelma</h2><p>&nbsp;</p><p>13.00–13.05 Tervetuloa koulutukseen, ylitarkastaja Marko Ojala, Etelä-Suomen aluehallintovirasto</p><p>&nbsp;</p><p><strong>Esimerkkejä kirjastoista:</strong></p><p>13.05–13.45 kirjasto- ja kulttuuripalvelupäällikkö Marjo Soininen, Nokian kaupunki</p><p>13.45–14.25 kirjastopalvelupäällikkö Laura Korhonen, Haminan kaupunki</p><p>14.25–14.40 Tauko</p><p>14.40–15.20 esittäjä vahvistuu myöhemmin</p><p>&nbsp;</p><p>15.20–15.40 Kirjastojen tilat aluehallintovirastojen arviointien valossa, ylitarkastaja Marko Ojala, Etelä-Suomen aluehallintovirasto</p><p>&nbsp;</p><h2 dir="ltr">Muut tiedot</h2><p>Koulutukseen sisältyy ennakkomateriaalina arviointia koskeva video, joka lähetetään ilmoittautuneille noin viikkoa ennen tilaisuutta. Ennakkomateriaali on sama kuin kahdessa webinaarisarjan aiemmassa osassa.</p><p dir="ltr">Koulutus on maksuton. Tilaisuus tallennetaan ja linkki tallenteeseen toimitetaan ilmoittautuneille. Muutokset ohjelmaan ovat mahdollisia.<br><br>&nbsp;</p><h2 dir="ltr">Lisätietoja</h2><p dir="ltr">Marko Ojala, marko.ojala@avi.fi, p. 0295 016 175</p>
LOCATION:
END:VEVENT
END:VCALENDAR