BEGIN:VCALENDAR
VERSION:2.0
PRODID:-//kirjastotfi/procal//NONSGML v1.0//EN
BEGIN:VEVENT
DTSTART:20250514T120000
DTEND:20250514T152000
SUMMARY:Yhteispeliä! - Lukeminen harrastuksena ja osana muita harrastuksia
DESCRIPTION:<p>Aluehallintovirastot, Lukutaito-ohjelma, Harrastamisen Suomen mallin yhteyspiste ja Kirjastokaista järjestävät yhteistyössä webinaarin lukemisesta harrastuksena, osana muita harrastuksia ja siitä miten lukuharrastusta voi elävöittää. Yhteistyö eri toimijoiden välillä on lukemisen edistämisessä erittäin tärkeää. Tätä edistetään lukutaitotyön rakenteilla, moniammatillisilla verkostoilla ja myös innovatiivisilla tavoilla yhdistää erilaisia harrastuksia.</p><p>Kansallisessa lukutaitostrategiassa yhtenä toimenpiteenä on luoda harrastusseuroille, -toimijoille, valmentajille ja lajiliitoille mahdollisuus integroida lukemista lajitoimintaan. Lisäksi on tärkeää tunnistaa eri harrastusryhmien ja lukuesikuvien merkitys lukemaan innostamisessa yhteiskunnassa. Lukemista edistäviä elementtejä voi yhdistää mihin tahansa harrastukseen.</p><p>Webinaari toteutetaan suoralähetyksenä Kirjastokaistalla. Linkki lähetetään ilmoittautuneille.</p><h2>Kohderyhmä</h2><p>Kirjasto-, liikunta-, nuoriso-, kulttuuritoimen henkilöstö, opetustoimijat, harrastuskoordinaattorit, Harrastamisen Suomen mallin toimijat, harrastusten järjestäjät sekä vapaa-ajan toiminnan ohjaajat.&nbsp;</p><h2 dir="ltr">Ohjelma</h2><p>12.00–12.15 Tilaisuuden avaus, ylitarkastaja Marko Ojala, Etelä-Suomen aluehallintovirasto</p><p>12.15–13.00 Lukemisen kanssa kamppailevien nuorten innostaminen ja piilevien taitojen löytäminen, kirjallisuusalan ammattilainen ja opettaja Aleksis Salusjärvi</p><p>13.00–13.30 Kansallinen lukutaitostrategia: Lukutaidon ja lukemisen edistäminen on moniammatillista yhteispeliä, vastaava erityisasiantuntija FT Lotta-Sofia La Rosa, Lukutaito-ohjelma, Opetushallitus</p><p>13:30–13.45 Suomen Palloliiton puheenvuoro, seurakehittäjä Lasse Keski-Loppi</p><p>13:45–14.00 Monipuolinen harrastustoiminta tuottaa lukuluontevuutta, järjestöpäällikkö Anna Bryk, Suomen partiolaiset ry</p><p>14.00–14.15 Tauko</p><p>14.15–15.15 Esimerkkejä kentältä:</p><ul><li>Liikkeellä lukemaan, hankekoordinaattori Johanna Santala, Heinolan kaupunginkirjasto</li><li>Lukuintoa pelillisyyden ja yhdessä tekemisen kautta!, intendentti Mari Immonen, Suomalaisen kirjan museo Pukstaavi</li><li>Lukutaito kasvaa tekemällä – 4H-harrastus lukemisen tukena, medianomi Leila Åkerlund ja toiminnanjohtaja Paula Harjamäki, Turun 4H-yhdistys.</li></ul><p>15.15–15.20 Tilaisuuden päätös, Ylitarkastaja Marko Ojala</p><h2 dir="ltr">Muut tiedot</h2><p dir="ltr">Koulutus on maksuton. Tilaisuus tallennetaan ja linkki tallenteeseen toimitetaan ilmoittautuneille. Muutokset ohjelmaan ovat mahdollisia.<br><br>&nbsp;</p><h2 dir="ltr">Lisätietoja</h2><p>Marko Ojala, marko.ojala@avi.fi, p. 0295 016 175</p>
LOCATION:
END:VEVENT
END:VCALENDAR