BEGIN:VCALENDAR
VERSION:2.0
PRODID:-//kirjastotfi/procal//NONSGML v1.0//EN
BEGIN:VEVENT
DTSTART:20250423T130000
DTEND:20250423T143000
SUMMARY:Tulevaisuuskahvit
DESCRIPTION:<h2>Kiinnostaako kirjastoalan tulevaisuus?</h2><p>AKE Porvoo ja Lahden AKE järjestävät tulevaisuusteemaiset etäkahvit keskiviikkona 23.4. klo 13–14.30. Etäkahveilla keskustellaan kirjastoalan ennakoinnin ja tulevaisuustyön ajankohtaisista aiheista.</p><p>Etäkahveilla <strong>Matti Sarmela</strong> kirjastojen valtakunnallisesta kehittämistehtävästä kertoo tulevaisuusajattelusta Finna-visiotyössä. Kirjastotoimen ylitarkastaja <strong>Satu Ihanamäki</strong> tuo terveiset Aluehallintoviraston tulevaisuustyön osalta.</p><p>Esittelemme myös AKE Porvoon ja Lahden AKEn vetämiä kirjastohenkilöstön Lukeva tulevaisuus -työpajoja, joissa yhdistellään Tulevaisuustaajuutta ja dialogisuutta. Työpajoissa keskustellaan lukutaidon toivotuista tulevaisuuksista kirjastoalan trendikorttien ja muiden menetelmien avulla.</p><h2>Ohjelma</h2><ul><li>13-13.05 Tervetuloa / Tiina Rajala, AKE Porvoo ja Noora Oluikpe, Lahden AKE</li><li>13.05-13.25 <strong>Tulevaisuusajattelu Finna-visiotyössä</strong> / Matti Sarmela, kehittämispäällikkö, valtakunnallinen kehittämistehtävä</li><li>13.25-13.40 <strong>AVIn terveiset tulevaisuustyöstä</strong> / Satu Ihanamäki, kirjastotoimen ylitarkastaja, Aluehallintovirasto</li><li>13.40-14.15 <strong>Ajankohtaisia kuulumisia tulevaisuudesta: Lukeva tulevaisuus-työpajat, uudet trendikortit, opas heikkojen signaalien havainnointiin</strong> / Tiina Rajala, AKE Porvoo ja Noora Oluikpe, Lahden AKE</li><li>14.15-14.30 Aikaa keskustelulle</li></ul><h2>Taustaa</h2><p>AKE Porvoo ja Lahden AKE järjestivät loppuvuodesta 2023 kaksiosaisen Pysy mukana muutoksessa ‑koulutuksen, jossa kokeiltiin käytännössä tulevaisuuden ennakointia, toimintaympäristön monitorointia ja tulevaisuustiedon analysointia tulevaisuusmuotoilija <strong>Minna Koskelon</strong> ohjaamana. Koulutukseen osallistuneet ovat vaihtuvalla kokoonpanolla työstäneet käyttöön kirjastoalan trendikortit, joita AKE Porvoo ja Lahden AKE ovat käyttäneet mm. vetämissään kirjastohenkilöstön tulevaisuustyöpajoissa. Kortteja on päivitetty tämän jälkeenkin.</p><p>Vuoden 2024 ensimmäisillä tulevaisuuskahveilla pohdittiin AVI:n <strong>Satu Ihanamäen </strong>ja <strong>Anu Ojarannan</strong> kera, miten ennakointityötä voitaisiin jatkaa kirjastoissa valtakunnallisesti. Aiheesta on vuoden varrella keskusteltu useammassa yhteydessä AKE-kirjastojen, VAKEn sekä AVIn kirjastotoimen erilaisissa yhteisissä kokoontumisissa sekä Yleisten kirjastojen neuvoston kokouksessa ja Suomen kirjastoseuran <strong>Riikka Rajalan</strong> kanssa. Tulevaisuuskahveille ovat tervetulleita kaikki kirjastojen tulevaisuudesta kiinnostuneet!</p><p><a href="https://uudenmaankirjastot.fi/uutiset/tulevaisuuden-ennakointiin-liittyvia-materiaaleja/">Linkki koosteessa viitattuihin materiaaleihin</a></p><h2>Osallistuminen</h2><p>Tule mukaan linjoille! Ennakkoilmoittautumista ei tarvita.</p><p><a href="https://teams.microsoft.com/l/meetup-join/19%3ameeting_OTViNTc5MDEtZTc1OC00NTRmLWI1MDEtZTMyOTY0MDI0OTgy%40thread.v2/0?context=%7b%22Tid%22%3a%22498c67c0-b7e8-4172-8d13-787d1b3aae5c%22%2c%22Oid%22%3a%22c9b3dc7f-55ec-4240-8b4b-f43cfdb3a34a%22%7d">Osallistumislinkki tulevaisuuskahveille</a></p><h2>Lisätietoja</h2><p>Tiina Rajala, informaatikko (Porvoon AKE)<br>puh. 040 539 6368<br>tiina.rajala@porvoo.fi</p><p>Noora Oluikpe, sisältökoordinaattori (Lahden AKE)<br>puh. 044 482 6154<br>noora.oluikpe@lahti.fi</p>
LOCATION:Teams
END:VEVENT
END:VCALENDAR