BEGIN:VCALENDAR
VERSION:2.0
PRODID:-//kirjastotfi/procal//NONSGML v1.0//EN
BEGIN:VEVENT
DTSTART:20250424T090000
DTEND:20250424T103000
SUMMARY:Valtakunnallinen kirjastotilastokatsaus 2024
DESCRIPTION:<p>Vuoden 2024 kirjastotilastot julkaistaan huhtikuun alussa. AVI Kirjastotoimi järjestää jälleen tilastokatsauksen menneeseen vuoteen. Tilaisuudessa käydään läpi huomioita, joita tilastoista nousee valtakunnallisesti sekä kuullaan, miten kirjastokentällä hyödynnetään tilastoja.</p><p>Aika ja paikka: 24.4.2025 klo 9–10.30 Teamsissa&nbsp;<br>Ilmoittautuminen: <a href="https://eventilla.avi.fi/event/XpXEw">https://eventilla.avi.fi/event/XpXEw</a></p><p>Koulutus on maksuton, ja se on tarkoitettu kaikille kirjastolaisille.&nbsp;Tilaisuus tallennetaan ja linkki tallenteeseen lähetetään ilmoittautuneille. Muutokset ohjelmaan mahdollisia.</p><p><strong>Ohjelma</strong></p><p>9.00-10.30 &nbsp;&nbsp;&nbsp;&nbsp;&nbsp;</p><ul><li>Katsaus valtakunnallisiin kirjastotilastoihin ja tilastovuoteen 2024 /Jonna Toukonen, aluehallintovirasto</li><li>Tilastotiedon hyödyntäminen Kouvolan kirjastossa /Tuomas Kunttu, Kouvolan kaupunki</li><li>Keskustelua</li></ul><p>Lisätietoja: kirjastotoimen ylitarkastaja Jonna Toukonen, jonna.toukonen(at)avi.fi, puh. 0295 018&nbsp;222</p>
LOCATION:Teams
END:VEVENT
END:VCALENDAR