BEGIN:VCALENDAR
VERSION:2.0
PRODID:-//kirjastotfi/procal//NONSGML v1.0//EN
BEGIN:VEVENT
DTSTART:20250508T120000
DTEND:20250508T130000
SUMMARY:Tutkittua: Lukutaitotyö yleisen kirjaston kulttuurihyvinvointipalveluna
DESCRIPTION:<p><strong>HUOM! Muuttunut aika: 8.5.2025 klo 12-13, Teams</strong></p><p>AKE Porvoon Tutkittua-sarjassa esitellään kirjastoalan tuoreita opinnäytetöitä, pro graduja ja muita kiinnostavia julkaisuja.</p><p>Tällä kertaa Anna Kähkönen esittelee vuonna 2024 ilmestynyttä opinnäytetyötään ”Lukutaitotyö yleisen kirjaston kulttuurihyvinvointipalveluna: kohderyhmänä 0–6-vuotiaat lapset ja perheet”. Työ on valmistunut ylemmän amk:n Kulttuurihyvinvoinnin koulutusohjelmasta Kaakkois-Suomen ammattikorkeakoulusta.</p><p>Opinnäytetyössä yhdistettiin kulttuurihyvinvoinnin ja lukutaitotyön päämääriä. Tavoitteena oli selvittää, kuinka kirjastoammattilaiset näkevät tai määrittelevät lukutaitotyön ja kulttuurihyvinvoinnin välisiä yhteyksiä. Tavoitteena oli myös tunnistaa ja tehdä näkyväksi kulttuurihyvinvointia vahvistavia lukutaitotyön tekijöitä.</p><p><a href="https://www.theseus.fi/handle/10024/859327"><strong>Voit tutustua opinnäytetyöhön jo etukäteen tästä linkistä</strong></a></p><h2>Tuleeko tallenne?</h2><p>Tilaisuutta ei tallenneta.</p><h2>Kenelle?</h2><p>Tilaisuus on suunnattu kaikille lukutaitotyötä tekeville kirjastolaisille ja aiheesta kiinnostuneille. Mukaan voi liittyä myös Uudenmaan ulkopuolelta eikä ennakkoilmoittautumista tarvita.</p><p><a href="https://teams.microsoft.com/l/meetup-join/19%3ameeting_ZTMzYTUxZmEtZDRmNi00ZWFhLWJjODMtMWQ5ZTdmNDY2NWU3%40thread.v2/0?context=%7b%22Tid%22%3a%22ca8dd34c-ed0b-4236-92cb-5644bfcfaed6%22%2c%22Oid%22%3a%22e541d5ec-347e-45c2-89f1-1bfbb9dba5ca%22%7d"><strong>Liity mukaan Tutkittua-tilaisuuteen tästä linkistä</strong></a></p><h2>Lisätietoja</h2><p><a href="mailto:Elina.Karioja@porvoo.fi">Elina.Karioja@porvoo.fi</a>&nbsp;</p>
LOCATION:verkossa
END:VEVENT
END:VCALENDAR