BEGIN:VCALENDAR
VERSION:2.0
PRODID:-//kirjastotfi/procal//NONSGML v1.0//EN
BEGIN:VEVENT
DTSTART:20250410T130000
DTEND:20250410T150000
SUMMARY:Lanujen kirjakahvit: Kadonneet helmet ja tuntemattomat tärpit
DESCRIPTION:<h2>Tuo muidenkin tietoon unohdetut kirjasuosikkisi!</h2><p>Onko joku vanhempi kirja jäänyt mielestäsi vaille ansaitsemaansa huomiota? Onko hieman uudemmissa kirjoissa tuntemattomia tärppejä, joista suuri yleisö ei ole tietoinen?</p><p>Uudenmaan LANU-verkoston kahveilla vinkataan tällä kertaa kadonneita helmiä ja tuntemattomia tärppejä.</p><p>Palauta siis mieleesi hieman vanhemmatkin unohdetut kirjasuosikkisi ja tule mukaan kahveille vinkkaamaan. Vinkata voi kuvan ja äänen kera tai kirjoittamalla chattiin omia vinkkejä. Mukaan voi tulla myös vain kuuntelemaan.</p><p>Voit jättää kirjavinkkejä jo etukäteen anonyymisti Miron kautta:</p><p><a href="https://miro.com/app/board/uXjVIYwc1OE=/?share_link_id=454698396944">Kirjavinkkipohja</a></p><h2>Aikataulu</h2><p>13-13.30 Kuvakirjat<br>13.30-14.15 Alakouluikäisten kirjat<br>Pieni tauko<br>14.20-15 Yläkoulusta ylöspäin</p><h2>Kenelle?</h2><p>Vapaamuotoinen vinkkauspiiri on suunnattu kaikille lasten- ja nuortenkirjastotyötä tekeville kirjastolaisille. Tavoitteena on jakaa matalan kynnyksen vertaistukea vinkkaamisesta ja kartuttaa kirjavinkkejä vinkkauksiin. Voit tulla mukaan vinkkaamaan kirjoja tai kuuntelemaan, mitä vinkattavaa muilla on!</p><h2>Osallistumislinkki kahveille</h2><p>Ota kupponen kahvia tai teetä ja tule linjoille seuraavasta linkistä:</p><p><a href="https://teams.microsoft.com/l/meetup-join/19%3ameeting_MTcwOWE3NDAtYTNkYS00MWJlLTk3NWEtMzkxNmMyMDljM2Yz%40thread.v2/0?context=%7b%22Tid%22%3a%22ca8dd34c-ed0b-4236-92cb-5644bfcfaed6%22%2c%22Oid%22%3a%22c914ca2e-6e3f-4481-9fe5-d5b562bcbc61%22%7d">Osallistumislinkki lanujen kirjakahveille</a></p>
LOCATION:Teams
END:VEVENT
END:VCALENDAR