BEGIN:VCALENDAR
VERSION:2.0
PRODID:-//kirjastotfi/procal//NONSGML v1.0//EN
BEGIN:VEVENT
DTSTART:20250506T093000
DTEND:20250506T110000
SUMMARY:Erten etävinkit: Porinapiiri – avointa keskustelua sekä vertaisten tukea lanulaisille
DESCRIPTION:<p>Koululaisten kesälomat alkavat ja päiväkodit hiljentyvät. Kirjastojen lanu-työtä tekevilläkin on ehkä pian aikaa hengähtää. Mitä jäi lukuvuodesta mieleen? Kokeilitko jotain uutta? Onnistuitko jossakin erityisen hyvin? Kaipaatko kollegoilta vertaistukea tai ratkaisuehdotuksia johonkin hankalaan tilanteeseen?</p><p>Nyt on hyvä tilaisuus päästä keskustelemaan muiden samaa työtä tekevien kanssa. Jaettuna ilot tuntuvat suuremmilta ja murheet pienemmiltä.</p><p>Voit myös antaa palautetta ja kehitysehdotuksia meille Erteläisille. Kuulemme mieluusti mihin toimintaan kaivattaisiin tukea ja mistä aiheista toivottaisiin koulutusta tai esittelyjä esimerkiksi etävinkeille.</p><p>Nappaa mukaan kuppi kuumaa ja tule mukaan linjoille!</p><p>Huom! Näitä etävinkkejä ei tallenneta.</p><p><a href="https://link.webropolsurveys.com/EP/A7325BE61F69A7A3"><strong>Ilmoittaudu mukaan tästä linkistä!</strong></a></p>
LOCATION:Teams
END:VEVENT
END:VCALENDAR