BEGIN:VCALENDAR
VERSION:2.0
PRODID:-//kirjastotfi/procal//NONSGML v1.0//EN
BEGIN:VEVENT
DTSTART:20250611T130000
DTEND:20250611T140000
SUMMARY:E-bibliotekets webbinariumserie för kundtjänstpersonal: E-biblioteket i kundservice - handleding och problemlösning
DESCRIPTION:<p>På våren ordnar E-biblioteket en serie webbinarier speciellt för de allmänna bibliotekens kundtjänstpersonal på temat de vanligaste frågorna om E-biblioteket. Webbinarierna är en halv timme långa utbildningstillfällen där 20 minuter består av en presentation av ämnet och resten av tiden kan användas för frågor. E-bibliotekets arbetsgrupp för användarutbildning och handledning ansvarar för planeringen och genomförandet av utbildningarna. Webbinarierna spelas in och kommer senare också att kunna ses på <a href="https://www.kirjastokaista.fi/e-aineistot-ja-digitointi/">Bibliotekskanalens webbplats</a>.&nbsp;</p>
LOCATION:Webinaari
END:VEVENT
END:VCALENDAR