BEGIN:VCALENDAR
VERSION:2.0
PRODID:-//kirjastotfi/procal//NONSGML v1.0//EN
BEGIN:VEVENT
DTSTART:20250520T130000
DTEND:20250520T160000
SUMMARY:Melindan kevätwebinaari 2025
DESCRIPTION:<p>Melindan kevätwebinaarin teemana on <a href="https://www.kiwi.fi/x/EQHGGw">Yhdessä tehden – Melinda-kirjastojen kuvailuyhteistyöllä metatietoa kaikkien käyttöön</a>.</p><p>Melinda-kuvailijoiden useiden eri alojen asiantuntemus heijastuu tietueisiin: sisällönkuvailu täydentyy asiantuntijoiden toimesta, ja bibliografiseen kuvailuun saa apua yhteisöltä. Näin tietueet rikastuvat parviälyn ansiosta.</p><p><strong>Aika:</strong> 20.5.2025 klo 13–16</p><p><strong>Paikka: </strong>Etäyhteydellä</p><p><strong>Ilmoittautuminen:</strong> <a href="https://www.lyyti.in/Melinda-webinaari0525">Ilmoittautuminen sulkeutuu 19.5. klo 12.</a></p>
LOCATION:Zoom
END:VEVENT
END:VCALENDAR