BEGIN:VCALENDAR
VERSION:2.0
PRODID:-//kirjastotfi/procal//NONSGML v1.0//EN
BEGIN:VEVENT
DTSTART:20250407T140000
DTEND:20250407T153000
SUMMARY:Kirjakori 2024 -webinaari
DESCRIPTION:<p>Kirjakori-webinaarissa esittelemme vuoden 2024 lasten- ja nuortenkirjojen tarjontaa, tilastoja ja teemoja.</p><p>Lastenkirjainstituutin Kirjakori-tilastoissa seurataan lasten- ja nuortenkirjojen julkaisumäärien kehitystä lajeittain ja esimerkiksi käännettyjen ja kotimaisten teosten suhdetta. Kirjakori-webinaarissa kerromme lisäksi vuoden 2024 lasten- ja nuortenkirjojen teemoista ja aiheista sekä muutoksista aiempiin vuosiin.</p><p>Lastenkirjainstituutti on seurannut vuodesta 2001 lähtien systemaattisesti lasten- ja nuortenkirjatarjonnan kehitystä Suomessa. Aiempiin Kirjakori-katsauksiin ja -tilastoihin voi tutustua verkkosivuillamme: <a href="http://www.lastenkirjainstituutti.fi/kirjakori">www.lastenkirjainstituutti.fi/kirjakori</a>.</p><p>Webinaari on osallistujille maksuton ja mukaan voi liittyä Teams-yhteydellä: <a href="https://bit.ly/kirjakori24">bit.ly/kirjakori24</a></p>
LOCATION:
END:VEVENT
END:VCALENDAR