BEGIN:VCALENDAR
VERSION:2.0
PRODID:-//kirjastotfi/procal//NONSGML v1.0//EN
BEGIN:VEVENT
DTSTART:20250513T090000
DTEND:20250513T160000
SUMMARY:Uudenmaan LANU-verkostopäivä 2025
DESCRIPTION:<h2>Tervetuloa Espooseen verkostoitumaan ja tutustumaan lanutyön teemoihin!</h2><p>Uudenmaan LANU-verkosto (Lasten- ja nuortenkirjastotyötä Uudellamaalla) kokoontuu yhteiseen verkostopäivään toukokuussa Lippulaivan kirjastoon. Verkostopäivässä pääset tapaamaan muita lanutyötä tekeviä, vaihtamaan kuulumisia, kuulemaan kiinnostavia esityksiä eri aiheista ja oppimaan toisilta.</p><h2>Ohjelma</h2><p>9- AKE tarjoaa aamukahvia ja teetä<br>9.15-9.30 Päivän alkusanat ja tervetuloa Espooseen, <strong>Tiina Rajala</strong>, AKE Porvoo ja <strong>Katariina Lauronen</strong>, Espoon kaupunginkirjasto<br>9.30-10.40 Alustukset ja keskustelua kahdesta vaihtoehtoisesta teemasta:</p><ul><li>Työkaluja perheiden lukemisen edistämiseen – Alustus: Kirjapaketit perheille, <strong>Pauliina Eriksson</strong>, Vantaan kaupunginkirjasto</li><li>Ideoita kirjaston ja nuorisotoimen yhteistyöhön – Alustus: Mitä tehtäis yhdessä-hanke, <strong>Anna Tykkyläinen</strong> &amp; <strong>Laura Leden</strong>, Kirkkonummen kirjasto</li></ul><p>10.40-10.55 Tauko<br>10.55-11.25 Espoon kulttuuriverkoston ja kirjastojen yhteistyö, <strong>Tony Turkia</strong>, Espoon kaupunginkirjasto<br>11.30-12 Espoo somessa, <strong>Aleksi Tonteri</strong>, Espoon kaupunginkirjasto</p><p>12-13 Lounas (omakustanteinen)</p><p>13-15 Mediakasvatustyötä Uudenmaan kirjastoissa – Alustuksia, testaamista ja keskustelua (kahvitauko välissä)</p><ul><li>Tiedonhaun ja lähdekritiikin Battle 5.-6.-luokkalaisille / <strong>Marjukka Peltonen</strong>, Espoon kaupunginkirjasto</li><li>Mediakasvatuksen portaat-hanke ja Mediamysteeri-peli 5. luokkalaisille / <strong>Karkki Havaste</strong> &amp; <strong>Urho Heinonen</strong>, Vantaan kaupunginkirjasto</li><li>Ympäristökasvatusta 5. luokkalaisille Seppo-pelin keinoin, Puhuja tarkentuu, Helsingin kaupunginkirjasto</li></ul><p>15-15.30 Päivän päättävä musiikkipedagoginen toiminnallinen hetki / <strong>Lauri Iljin</strong> ja <strong>Sakari Heikka</strong>, Espoon kaupunginkirjasto<br>15.30-16 Vapaaehtoinen kierros Lippulaivan kirjastossa</p><p>Päivän aikana voit myös tutustua AKE Porvoon uuteen kamishibai-tarinateatteriin ja tarinoihin.</p><h2>Kenelle?</h2><p>Verkostopäivä on suunnattu kaikille Uudenmaan yleisissä kirjastoissa lasten- ja nuortenkirjastotyötä tekeville.</p><h2>Mikä lanu-verkosto?</h2><p>Jos haluat mukaan lanu-verkostoon, laita viestiä Tiinalle.</p><p>Verkoston tavoitteena on koota yhteen Uudellamaalla lasten- ja nuortenkirjastotyötä tekeviä ja lisätä kirjastolaisten välistä yhteistyötä. Verkoston tiedotuskanavia ovat sähköposti ja teams. Tapaamme vuosittain kasvotusten verkostotapaamisessa ja järjestämme erilaisia etäkahveja. Verkosto tekee myös yhteisiä projekteja, viimeisimpänä S2-kirjalistoja kirjastolaisten ja opettajien käyttöön. Verkoston ydinryhmässä on edustajat kaikista Uudenmaan kirjastokimpoista.</p><h2>Lisätiedot ja ilmoittautuminen</h2><p>Ilmoittaudu verkostopäivään seuraavasta linkistä:</p><p><a href="https://link.webropolsurveys.com/EP/8F552BEFC9559EF7">Ilmoittautumislinkki LANU-verkostopäivään</a></p>
LOCATION:Lippulaivan kirjasto, Espoonlahdenkatu 8, 02320 Espoo
END:VEVENT
END:VCALENDAR