BEGIN:VCALENDAR
VERSION:2.0
PRODID:-//kirjastotfi/procal//NONSGML v1.0//EN
BEGIN:VEVENT
DTSTART:20250415T130000
DTEND:20250415T153000
SUMMARY:Nuorten kohtaaminen kirjastoissa
DESCRIPTION:<p>Kirjastojen henkilökunta kohtaa työssään eri ikäisiä ja erilaisissa elämäntilanteissa olevia ihmisiä, joiden taustojen ja kokemusmaailman ymmärtämisessä on apua myös kirjastotyössä. Erityisesti nuoret viettävät paljon aikaa kirjastoissa ja aika ajoin heidän kanssaan on myös haastavia vuorovaikutustilanteita. Tässä iltapäivän mittaisessa webinaarissa saat katsauksen nuorten elämään liittyviin ilmiöihin ja pääset pohtimaan kohtaamista ja tilanteiden käsittelyä käytännön esimerkkien kautta.</p><h2><strong>Sisältö</strong></h2><ul><li>Nuorten elämän ajankohtaiset ilmiöt 2025</li><li>Nuorten kohtaaminen ja vuorovaikutustilanteet kirjastoissa</li><li>Tilanteiden käsittely käytännön esimerkkien kautta osallistavasti</li><li>Lyhyt katsaus mihin ohjata nuorta, jonka tilanteesta ollaan huolissaan – linkit paikallisiin palveluihin ja lastensuojeluilmoituksen tekeminen</li></ul><p>Koulutuksen aikana työskennellään Padlet-alustalla.</p><h2><strong>Kouluttajat</strong></h2><p>Iltapäivän kouluttajat tulevat Diakonissalaitoksen Yhdessä elämisen taitokeskuksesta.&nbsp;</p><h2><strong>Ilmoittautuminen ja kohderyhmä</strong></h2><p><a href="https://link.webropolsurveys.com/EP/6D82C2CF78ED7F1F">Ilmoittaudu tai tilaa tallenne tällä Webropol-lomakkeella viimeistään 9.4.2025.</a></p><p>Koulutus on suunnattu erityisesti kirjastojen asiakaspalvelussa työskenteleville ja heidän esihenkilöilleen.</p><p>Koulutukseen on rajallinen määrä paikkoja, joten etusijalla koulutukseen ovat Lahden AKE-alueen (Etelä-Karjala, Kanta-Häme, Kymenlaakso, Päijät-Häme) yleisten kirjastojen työntekijät. Myös muut voivat ilmoittautua.</p>
LOCATION:Teams-etäkoulutus
END:VEVENT
END:VCALENDAR