BEGIN:VCALENDAR
VERSION:2.0
PRODID:-//kirjastotfi/procal//NONSGML v1.0//EN
BEGIN:VEVENT
DTSTART:20250428T130000
DTEND:20250428T143000
SUMMARY:Opetus- ja kulttuuritoimen lakiwebinaari: työturvallisuus ja henkilöstöön kohdistuva häirintä
DESCRIPTION:<p><span>Aluehallintovirastojen kirjastotoimen järjestämässä webinaarissa syvennytään opetus- ja kulttuuritoimen työturvallisuusteemoihin.</span></p><p><span>Näkökulmina ovat työturvallisuuslain säännökset yleisesti, henkilöstöön kohdistuva väkivalta ja häirintä sekä maalittaminen. Säädösperustasta alustaa OTT, dosentti Henri Rikander. Puheenvuoron jälkeen kuullaan kirjastotoimen näkökulma Riihimäeltä, alustajana kirjastonjohtaja&nbsp;Niina Honko.</span></p><p><span>Muutokset ohjelmaan ovat mahdollisia.</span></p><h3><span>Kohderyhmä</span></h3><p><span>Kuntien kirjastotoimen, varhaiskasvatuksen, opetustoimen, liikuntatoimen sekä nuorisotoimen henkilöstö.</span></p>
LOCATION:
END:VEVENT
END:VCALENDAR