BEGIN:VCALENDAR
VERSION:2.0
PRODID:-//kirjastotfi/procal//NONSGML v1.0//EN
BEGIN:VEVENT
DTSTART:20250904T093000
DTEND:20250905T153000
SUMMARY:PiKen esihenkilöiden syyspäivät Ikaalisissa
DESCRIPTION:<p><strong>Lämpimästi tervetuloa PiKe-kirjastojen&nbsp;esihenkilöiden syyspäiville Ikaalisten kylpylään 4.–5.9.2025! Syyspäivien teemana on yhteisöohjautuvuuden osaamisen vahvistaminen ja esihenkilö työntekijäkokemuksen johtajana</strong>.<strong> Luvassa on kaksi päivää tietoa, yhteistä työskentelyä, ajatusten vaihtoa ja oman esihenkilötyön kehittämistä</strong>.</p><p>Verkostoitumisen ja kirjastojen yhteistoiminnan vahvistamisen lomassa työskentelemme yhteisöohjautuvuuden, työntekijäkokemuksen ja muotoiluajattelun teemoissa. Työntekijäkokemus on yksilön kokemus työstään. Sillä on olennainen vaikutus työntekijän sitoutumiseen, työn tuloksiin ja työhyvinvointiin ja esihenkilöllä on avainrooli työntekijäkokemuksen muodostumisessa.&nbsp;Pohdimme miten psykologiset perustarpeet tyydyttyvät omassa työyhteisössä ja keksimme keinoja niiden vahvistamiseen.</p><p>Kahden päivän valmennuksessa pureudutaan työntekijäkokemuksen osa-alueisiin ja siihen miten esihenkilö voi johtaa työntekijäkokemusta. Valmentajana toimii työpäivämuotoilija <strong>Aku Varamäki</strong> (Workday Designers Oy). Aku on kokenut työntekijäkokemuksen tutkija, kehittäjä, puhuja ja valmentaja. Hän on kouluttanut lukuisia yrityksiä työntekijäkokemuksesta, kehittänyt organisaatioiden HR-prosesseja sekä johtamisen käytäntöjä.&nbsp;</p><h2><strong>Lisätiedot ja ilmoittautuminen</strong></h2><p><strong>PiKen esihenkilöiden syyspäivät Ikaalisissa</strong><br><strong>To 4.–pe 5.9.2025</strong><br><strong>Ikaalinen,&nbsp;Ikaalisten kylpylä, Huvilatie 2, 39500 Ikaalinen</strong></p><p>Tapaamiseen ovat tervetulleita PiKe-kirjastojen esihenkilöt ja johtajat. AKE Tampere (Pirkanmaa ja Keski-Suomi)&nbsp;kustantaa majoituksen sekä lounas- ja kahvitarjoilut. Työnantajat maksavat matkat mahdollisen yhteiskuljetuksen lähtöpaikkaan sekä päivärahat:</p><ul><li>Majoittuminen kahden hengen huoneissa</li><li>Omakustanteinen, valinnainen iltaohjelma</li><li>Enimmillään 50 esihenkilöä ja johtajaa</li><li>tarvittaessa rajataan ensisijaiseen osallistujaan/kunta</li></ul><p>Muut mahdolliset järjestelyt omakustanteisia.</p><p><a href="https://elomake.tampere.fi/lomakkeet/30642/lomake.html">Pääset ilmoittautumaan mukaan tästä 19.6.2025 mennessä.</a></p><h2><strong>Opiskelumateriaalit</strong></h2><p>Pääset lataamaan tilaisuuden esitys- ja tehtävämateriaalit itsellesi ohesta tilaisuuden jälkeen.</p><h2><strong>Ohjelma</strong></h2><p>Ohjelma kutsuu osallistumaan. Siinä kannustetaan keskustelemaan, myös verkostoitumiseen ja yhdessä innostumiseen koko esihenkilö- ja johtajaverkoston kesken. Ohjelmasta vastaa fasilitaattori&nbsp;Aku Varamäki (<strong>Workday Designers</strong>). Muutokset mahdollisia, ajantasaiset tiedot koulutusartikkelissa ja osallistujille ennen tilaisuutta lähetettävässä käsiohjelmassa.</p><p><strong>Syyspäivä I:&nbsp;Johdatus työntekijäkokemukseen ja muotoiluajatteluun</strong><br><strong>Torstai 4.9.2025</strong><br><strong>Klo 09.30–16.30</strong></p><blockquote><p><strong>Klo 9.30</strong>&nbsp;Aamukahvit<br><strong>Klo 10.00</strong>&nbsp;Tilaisuuden aloitus</p><p><strong>Aamupäivän työskentely</strong></p><ul><li>Esihenkilön rooli hyvän työntekijäkokemuksen mahdollistajana</li><li>Työntekijäkokemusmalli</li><li>Esihenkilötyön eri tasot</li><li>Työntekijäkokemuksen neljä osa-aluetta</li></ul><p><em>Tunnin lounastauko puoliltapäivin (kehittämiskirjasto tarjoaa)</em></p><p>&nbsp;</p><p><strong>Iltapäivän työskentely</strong></p><ul><li>Muotoilu esihenkilötyön kehittämisen välineenä</li><li>Työntekijäymmärrys esihenkilötyön kehittämisen pohjana</li></ul><p><em>Iltapäivän aikana tullaan pitämään myös reilun mittainen kahvitauko.</em></p><p><strong>Klo 18.00–22.00&nbsp;</strong>Omakustanteinen ja valinnainen iltaruokailu klo 18.00 alkaen</p></blockquote><p><strong>Syyspäivä II: Työntekijäkokemus jatkuu (Autonomia, osaaminen, merkityksellisyys)</strong><br><strong>Perjantai 5.9.2025</strong><br><strong>Klo 9.00–15.30</strong></p><blockquote><p><strong>Klo 9.00–9.10&nbsp;</strong>Päivän avaus</p><p><strong>Aamupäivän työskentely</strong></p><ul><li>Työntekijäkokemus: Autonomia</li><li>Omien työntekijöiden tarpeiden tunnistaminen</li><li>Tarpeiden muuntaminen innostaviksi ja konkreettisiksi muotoiluhaasteiksi</li><li>Työntekijöiden autonomiaa tukevien ratkaisujen ideointi</li><li>Kokeilun suunnittelu (testauspohja)</li></ul><p><em><strong>Klo 12.00–13.00</strong>&nbsp;Lounas (kehittämiskirjasto tarjoaa)</em><br>&nbsp;</p><p><strong>Iltapäivän työskentely</strong></p><ul><li>Työntekijäkokemus: Osaaminen ja merkityksellisyys</li><li>Omien työntekijöiden tarpeiden tunnistaminen</li><li>Tarpeiden muuntaminen innostaviksi ja konkreettisiksi muotoiluhaasteiksi</li><li>Oppimista ja työn merkityksellisyyttä tukevien ratkaisujen ideointi</li><li>Kokeilun suunnittelu (testauspohja)</li></ul><p><strong>Klo 15.00–15.30&nbsp;</strong>Päätös ja suunnitelmat työskentelyn jatkolle</p><p><strong>Klo 15.30&nbsp;</strong>Lopputehtävä ja lopetus&nbsp;</p></blockquote><h2><strong>Saapumisohje (ja lähtöohje)</strong></h2><p>Saapumisohjeet päivitetään koulutusartikkeliin akepiken verkkosivuille.</p><p><em>Tilaisuuden järjestää Tampereen kaupunginkirjasto. Tampereen kaupunginkirjastolla on alueellinen kehittämistehtävä Pirkanmaan ja Keski-Suomen alueella. Kuvat ja tunnelmat somessa, käytä tunnistetta: #akepike.</em></p><h2><strong>Kysy lisää&nbsp;</strong></h2><p>Juliaana Grahn, koordinaattori&nbsp;<br>juliaana.grahn(a)tampere.fi, 040&nbsp;800 7828</p>
LOCATION:Ikaalisten kylpylä
END:VEVENT
END:VCALENDAR