BEGIN:VCALENDAR
VERSION:2.0
PRODID:-//kirjastotfi/procal//NONSGML v1.0//EN
BEGIN:VEVENT
DTSTART:20250327T120000
DTEND:20250327T150000
SUMMARY:Hyvä kokoelma yhdistää ja erottaa: Kokoelmat esiripun molemmin puolin!
DESCRIPTION:<p><strong>PiKen kokoelmailtapäivät jatkuvat! Kevään iltapäiväwebinaarissa kutsumme kirjastoammattilaiset oppimaan näytelmien ja teatteritaiteen mahdollisuuksista, omista kokoelmista elokuvakulttuurin edistäjinä sekä journalismin erilaisista muodoista. Tule lisäämään jaettua ymmärrystämme siitä, miten kirjaston kokoelmien eri puolet ja kirjastotyöntekijän oma mediaymmärrys voi edistää yhteiskunnallista ja kulttuurista vuoropuhelua</strong>.</p><h2><strong>Opiskelumateriaalit</strong></h2><p>Iltapäivään voi orientoitua jo ennakkoon osallistumalla Kirjastokaistan kautta valtakunnalliseen kokoelma-aamupäivään 25.3. (PiKe-kirjastolainen, ilmoita osallistumisestasi <a href="https://elomake.tampere.fi/lomakkeet/30700/lomake.html">oheisen lomakkeen kautta</a>) ja tutustumalla&nbsp;<a href="https://www.kirjastot.fi/sites/default/files/content/valtakunnallinen-kokoelmakysely-2024_fi.pdf">valtakunnalliseen kokoelmakyselyraporttiin</a>. Tilaisuuden esitysmateriaalit ovat opiskeltavissa jälkikäteen ohesta. Puheenvuorot tallennetaan katsottavaksi vuoden 2025 loppuun. Kai Halttusen puheenvuoroa ei tallenneta.</p><h2><strong>Aika, paikka ja ilmoittautuminen</strong></h2><p><strong>Hyvä kokoelma yhdistää ja erottaa: Kokoelmat esiripun molemmin puolin!</strong><br><strong>To 27.3. klo 12-15</strong><br><strong>Etälähetys</strong></p><p><a href="https://elomake.tampere.fi/lomakkeet/30595/lomake.html">Ilmoittaudu mukaan ohesta 20.3. mennessä.</a></p><h2><strong>Ohjelma</strong></h2><p>Klo 12-12.15 Johdatus aiheisiin ja iltapäivään / Kehittämiskirjasto hostaa</p><p>Klo 12.15-13.15 Näytelmätekstit ja kirjasto / <strong>Kai Halttunen</strong>, kouluttaja</p><p>Klo 13.15-13.30 Tauko</p><p>Klo 13.30-14.00 Elokuvatallenteet ja suoratoistot kimpassa / <strong>Antti Määttänen</strong>, kirjastonhoitaja (Jyväskylän kaupunginkirjasto), <strong>Sonja Hakkarainen</strong>, palvelupäällikkö (Tampereen kaupunginkirjasto) ja&nbsp;<strong>Venla Virhiä</strong>, kirjastonhoitaja (Tampereen kaupunginkirjasto)</p><p>Klo 14.00-14.45 Mikä on journalismin tarkoitus? / <strong>Uusi Juttu</strong>, <strong>Mustread</strong> ja <strong>Yle Kioski</strong><br>Tietoiskuissa ja keskustellen mukana <strong>Olli Seuri</strong>, päätoimittaja (Uusi Juttu), <strong>Erkka Railo</strong>, vastaava päätoimittaja (Mustread) ja <strong>Tiia-Mari Laitila</strong>, toimittaja (Yle Kioski)</p><p>Klo 14.45-15.00 Loppukeskustelu / Kehittämiskirjasto hostaa</p><p><em>Tilaisuuden järjestää Tampereen kaupunginkirjasto. Tampereen kaupunginkirjastolla on alueellinen kehittämistehtävä Pirkanmaan ja Keski-Suomen alueella. Kuvat ja tunnelmat somessa, käytä tunnistetta: #akepike</em></p><h2><strong>Lisätiedot</strong></h2><p>Koordinaattori Juliaana Grahn<br>040 800 7828 / juliaana.grahn(a)tampere.fi</p>
LOCATION:Teams
END:VEVENT
END:VCALENDAR