BEGIN:VCALENDAR
VERSION:2.0
PRODID:-//kirjastotfi/procal//NONSGML v1.0//EN
BEGIN:VEVENT
DTSTART:20250409T130000
DTEND:20250409T150000
SUMMARY:Google sheets -syventävä koulutus
DESCRIPTION:<p><span>Tule mukaan oppimaan Google sheetsin käyttöä osana kirjastotyön tilastointia!</span><br><span>KTM Ville Rihtamo on liiketoiminnan moniosaaja ja laaja-alainen digitaitojen kouluttaja, joka omaa tuhansien koulutustuntien kokemuksen pidettynä valmentajana. Rihtamo on saanut erityiskiitosta asiantuntevasta ja rennosta otteestaan, sekä kyvystään tukea osallistujien oppimistavoitteiden saavuttamista.</span></p>
LOCATION:Teams
END:VEVENT
END:VCALENDAR