BEGIN:VCALENDAR
VERSION:2.0
PRODID:-//kirjastotfi/procal//NONSGML v1.0//EN
BEGIN:VEVENT
DTSTART:20250305T130000
DTEND:20250305T150000
SUMMARY:Helppoa luettavaa: Ajankohtaista selkokirjallisuudesta
DESCRIPTION:<p>Selkokielen tarve kasvaa koko ajan, useampi kuin joka kymmenes suomalainen tarvitsee selkokieltä (lähde: Selkokeskus). Selkokirjat sopivat kaikille, joille tavallisten kirjojen lukeminen on vaikeaa. Suomessa ilmestyy noin 30 uutta selkokirjaa vuodessa.</p><p>Miten löytää helppoa luettavaa asiakkaille? Millaisia selkokirjat ovat ja miten löytää niistä tietoa ja kirjavinkkejä eri asiakasryhmille? AKE Porvoon järjestämässä webinaarissa saat ajankohtaista tietoa erilaisista selkokirjoista, selkokirjallisuudesta ja sen asemasta tämän päivän Suomessa.</p><h2>Kouluttaja</h2><p>Kouluttajana toimii selkokielen asiantuntija <strong>Ella Airaksinen</strong>. Hän on toiminut useita vuosia selkokirjatyöryhmän sihteerinä ja julkaissut Sukella selkokirjaan -tietokirjan yhdessä <strong>A. Sainion</strong> kanssa.</p><h2>Kenelle?</h2><p>Webinaarista on hyötyä kaikille kirjastolaisille, työskentelitpä sitten asiakaspalvelun, kokoelmatyön tai lukemisen edistämisen tehtävissä. Koulutus on tarkoitettu Uudenmaan yleisissä kirjastoissa työskenteleville, mukaan mahtuu 30 kirjastolaista.</p><h2>Tuleeko tallenne?</h2><p>Koulutusta ei tallenneta.</p><h2>Lisätiedot ja ilmoittautuminen</h2><p>Ilmoittaudu mukaan webinaariin viimeistään 3.3. Saat teams-linkin ilmoittautumisajan päätyttyä.</p><p><a href="https://link.webropolsurveys.com/EP/07AC19051C647AF0">Ilmoittaudu selkokirjakoulutukseen tästä linkistä</a></p>
LOCATION:Teams
END:VEVENT
END:VCALENDAR