BEGIN:VCALENDAR
VERSION:2.0
PRODID:-//kirjastotfi/procal//NONSGML v1.0//EN
BEGIN:VEVENT
DTSTART:20250313T140000
DTEND:20250213T150000
SUMMARY:Lastenkirjakahvit
DESCRIPTION:<p>Maaliskuun lastenkirjakahvit järjestetään torstaina 13.3. klo 14-15.</p><p>Lastenkirjakahveilla keskustellaan ajankohtaisista lasten- ja nuortenkirjoista. Voit esitellä lukemasi kirjan tai tulla kuuntelemaan, mitä muut ovat lukeneet.</p><p>Lastenkirjakahvit järjestetään Teams-etäyhteydellä: <a href="https://bit.ly/maaliskuunlastenkirjakahvit25">https://bit.ly/maaliskuunlastenkirjakahvit25</a></p><p>Lastenkirjakahveille ovat tervetulleita kaikki lasten- ja nuortenkirjallisuudesta kiinnostuneet aikuiset!</p>
LOCATION:
END:VEVENT
END:VCALENDAR