BEGIN:VCALENDAR
VERSION:2.0
PRODID:-//kirjastotfi/procal//NONSGML v1.0//EN
BEGIN:VEVENT
DTSTART:20250410T090000
DTEND:20250410T103000
SUMMARY:Tekoälylukutaitoa kirjastosta - työkalut ja mahdollisuudet
DESCRIPTION:<p>Aloitimme helmikuussa 2025 Mediataitoviikolla kolmen tapaamisen sarjan, jonka aikana pohditaan tekoälyä erityisesti kirjaston mediakasvatuksen näkökulmasta. Tavoitteena on käsitellä tekoälyä kirjastojen näkökulmasta yhdessä keskustellen.&nbsp;Jokaiseen tapaamiseen sisältyy alustus ja keskustelu. Tapaamiset toteutetaan Teams-etäyhteydellä.</p><p>Tapaamiset on suunnattu kaikille tekoälystä kiinnostuneille kirjastolaisille, erityisesti heille, jotka pohtivat kuinka käsitellä tekoälyä osana mediakasvatusta lasten, nuorten, aikuisten tai ikäihmisten kanssa.&nbsp;Voit osallistua oman aikataulusi mukaan niihin tapaamisiin, joihin pääset.&nbsp;</p><h2><strong>Tapaamisten ajankohdat ja aiheet</strong></h2><ul><li><a href="https://lahdenake.fi/koulutus/tekoalylukutaitoa-kirjastosta-tekoaly-kirjaston-mediakasvatuksessa/"><strong>Tekoälylukutaitoa kirjastosta: tekoäly kirjaston mediakasvatuksessa</strong></a>, to 13.2.2025 klo 9–10.30</li><li><a href="https://lahdenake.fi/koulutus/tekoalylukutaitoa-kirjastosta-tekoalyn-eettiset-kysymykset-ja-linjaukset/"><strong>Tekoälylukutaitoa kirjastosta: tekoälyn eettiset kysymykset ja linjaukset</strong></a>, to 13.3.2025 klo 9–10.30</li><li><strong>Tekoälylukutaitoa kirjastosta: työkalut ja mahdollisuudet</strong>, to 10.4.2025 klo 9–10.30</li></ul><h2><strong>Ohjelma 10.4.2025</strong></h2><ul><li>Klo 9.00–9.10 Hyvää huomenta ja tervetuloa!</li><li>Klo 9.10–9.40 Päivän alustus: tekoälytaiteilija <strong>Taika Jalohaikara</strong></li><li>Klo 9.40–9.55 Aikaa kysymyksille ja kommenteille</li><li>Klo 9.55–10.30 Tekoälytyökalut mediakasvatukseen — vinkkejä ja inspiraatiota</li></ul><p><a href="https://taikajalohaikara.myportfolio.com/">Taika Jalohaikara</a> on yksi Suomen ensimmäisistä tekoälytaiteilijoista. Hän on myös tekoälykouluttaja, puhuja, yrittäjä sekä entinen kirjastotyöntekijä. Taika on esimerkki siitä, miten perinteinen taideosaaminen ja moderni teknologia voidaan yhdistää luovalla ja uudella tavalla.</p><h2><strong>Tuleeko tallenne?&nbsp;</strong></h2><p>Tapaamisia ei tallenneta.&nbsp;</p><h2><strong>Ilmoittautuminen&nbsp;</strong></h2><p><a href="https://link.webropolsurveys.com/EP/DB45EF9E344A9FD2">Pääset ilmoittautumaan tapaamisiin Webropol-lomakkeella.</a>&nbsp;</p>
LOCATION:Teams
END:VEVENT
END:VCALENDAR