BEGIN:VCALENDAR
VERSION:2.0
PRODID:-//kirjastotfi/procal//NONSGML v1.0//EN
BEGIN:VEVENT
DTSTART:20250325T090000
DTEND:20250325T114500
SUMMARY:Kirjastojen valtakunnallinen kokoelma-aamupäivä
DESCRIPTION:<p>Alueellista ja valtakunnallista kehittämistehtävää hoitavat kirjastot järjestävät yhteistyössä kokoelma-aiheisen koulutustilaisuuden. Yhteisen aamupäivän aikana kuullaan ajankohtaisia puheenvuoroja valtakunnallisesta kokoelmaselvityksestä ja kirjastoista, paneelikeskustelua kirjastohenkilöstön kesken, sekä asiakasnäkökulmia kirjastojen kokoelmiin.</p><p>Tilaisuus on katsottavissa <a href="https://www.kirjastokaista.fi/">Kirjastokaistalla</a>. Ilmoittautumiskäytännöistä saa lisätietoa oman AKE-alueen yhteyshenkilöiltä.</p><h2><strong>Ohjelma</strong><br>&nbsp;</h2><p><span>9.00–9.05 Johdatus kokoelmapäivään, Juliaana Grahn, Tampereen AKE</span></p><p><span>9.05–9.45 Valtakunnallisen kokoelmaselvityksen tuloksia, Aija Laine, VAKE</span><br><br><span>Kommenttipuheenvuorot:</span><br><span>Kaisa Hypén, Turun kaupunginkirjasto&nbsp;&nbsp;</span><br><span>Tarja Urpilainen, Kinnulan kirjasto</span></p><p><span>9.45–9.55 Tauko</span></p><p><span>9.55–10.40 Kokoelmatyö ja kokoelmien arviointi kirjastoissa, paneelikeskustelu</span><br><br><span>Paneelin juontaa Riikka Junttila, Sysmän kirjasto</span><br>Keskustelijat:<br><span>Joni Rahja, Kajaanin kaupunginkirjasto&nbsp;</span><br><span>Anni Kilpinen, Pukkilan kirjasto</span><br><span>Liisa Tastula, Rovaniemen kaupunginkirjasto&nbsp;</span></p><p><span>10.40–11.10 Kokoelmat kirjastotilassa</span><br><br><span>Lippulaivan kirjasto Espoo, Anssi Sajama</span><br><span>Savonlinnan kirjastoauto, Niko Taskinen</span><br>&nbsp;</p><p><span>11.10–11.40 Asiakasnäkökulmia kirjastojen kokoelmiin, eri esiintyjiä</span></p><p><span>11.40–11.45 Loppusanat, Juliaana Grahn, Tampereen AKE</span><br>&nbsp;</p><p><span>Lisätietoja:</span><br><span>AKE: oman AKE-alueen yhteyshenkilöt</span><br>VAKE: Aija Laine, aija.laine@hel.fi</p>
LOCATION:
END:VEVENT
END:VCALENDAR