BEGIN:VCALENDAR
VERSION:2.0
PRODID:-//kirjastotfi/procal//NONSGML v1.0//EN
BEGIN:VEVENT
DTSTART:20250311T093000
DTEND:20250311T110000
SUMMARY:Erten etävinkit: Työkaluja monikielisten lasten, nuorten ja perheiden kohtaamiseen
DESCRIPTION:<p>Erten etävinkeillä 11.3. kuullaan Monikielisen kirjaston ajankohtaisista asioista kirjastoille, tutustutaan Heurekan Tietokirjafanit-hankkeen Tee oma tietokirja -työpajaan ja saadaan vinkkejä Lukukeskuksen ajankohtaisista materiaaleista kirjastokäyttöön.</p><p>Tule mukaan linjoille ja keskustelemaan tai tilaa tallenne!</p><p><strong>OHJELMA 11.3. klo 9.30–11.00</strong></p><p>klo 9.30–10.00<br><strong>Ajankohtaiset palvelut kirjastoille</strong><br>Eeva Pilviö, Monikielinen kirjasto</p><p>klo 10.00–10.20<br><strong>Tee oma tietokirja -työpaja</strong><br>Paula Havaste, Heurekan Tietokirjafanit-hanke</p><p>klo 10.20–10.50<br><strong>Ajankohtaiset materiaalit kirjastokäyttöön</strong><br>Vilma Tammelin, Lukukeskus</p><p>klo 10.50–11.00 Loppukeskustelu</p><p><a href="https://www.sjkerte.fi/events/erten-etavinkit-tyokaluja-monikielisten-lasten-nuorten-ja-perheiden-kohtaamiseen?fbclid=IwY2xjawIaiaxleHRuA2FlbQIxMQABHeerGb-bWNOcyDFQIpVU-6m8YTbT5cM-ZfQfqi5R8_EZnAHflLZCw6i9nw_aem_lNjcgKVD1z1e7h6E3Qj55g">Ilmoittaudu mukaan SJK Erten kotisivuilla!</a></p><p><em>Webinaari tallennetaan ja linkki tallenteeseen lähetetään kaikille tapahtumapäivään mennessä ilmoittautuneille. Tallenne on katsottavissa 12 päivän ajan. Pidätämme oikeuden muutoksiin.</em></p>
LOCATION:Teams
END:VEVENT
END:VCALENDAR