BEGIN:VCALENDAR
VERSION:2.0
PRODID:-//kirjastotfi/procal//NONSGML v1.0//EN
BEGIN:VEVENT
DTSTART:20250306T093000
DTEND:20250306T153000
SUMMARY:Kirjasto musiikkiharrastuksen tukena
DESCRIPTION:<p>Kauan toivottu musiikkiteemainen koulutuspäivä toteutuu <strong>6.3.2025</strong> Lahden kaupunginkirjastossa! Koulutuspäivässä käsitellään musiikkikirjastotyön ajankohtaisia teemoja, joita ovat olleet suunnittelemassa alueen aktiiviset musiikkikirjastolaiset yhdessä Lahden AKEn koordinaattorien kanssa. Päivä sopii erityisen hyvin kaikille, jotka ovat pohtineet, miten musiikkikirjastotyö toteutuu osana oman kirjaston strategista kehittämistä ja monipuolista kirjastopalvelujen tarjontaa.</p><p>Kirjastot tukevat toiminta-alueensa musiikkiharrastusta ja musiikkikulttuuria monin pienin ja arkisin teoin, joita toteutetaan kunnissa erilaisin kokoonpanoin ja yhteistyökuvioin. Koulutuspäivässä musiikkikirjastotyöhön syventyneet asiantuntijat sekä monenlaisista taustoista tulevat kirjastojen työntekijät pääsevät kohtaamaan ja verkostoitumaan.</p><p>Koulutuspäivän näkökulmia ovat:</p><ul><li>Millainen on musiikkikirjastotyön, musiikkikokoelmien ja erilaisten formaattien tulevaisuus?</li><li>Miten kirjasto voi tukea musiikkikulttuuria ja musiikin harrastamista käytännössä?</li><li>Miten oman kirjaston musiikkiaiheista tapahtumatarjontaa voisi kehittää?</li></ul><p>Koulutuspäivä tarjoaa näkökulmia ja vinkkejä musiikkikirjastotyön kehittämiseen ja suunnitteluun. Kuulemme matalan kynnyksen musiikkitapahtumista, joilla on myös pedagogisia ja strategisia tavoitteita. Päivä on verkostoitumismahdollisuus musiikkikirjastotyötä tekeville asiantuntijoille sekä kaikille heille, jotka pohtivat oman kirjastonsa musiikkipalveluiden virkistämistä helpoilla, pienillä teoilla osana muuta arjen kirjastotyötä.</p><h2><strong>Ohjelma</strong></h2><p>9.30 Aamukahvit ja vapaata verkostoitumista (Lahden AKE tarjoaa)<br>10.15 <strong>Tervetuloa!</strong> Lahden AKEn koordinaattorit ja Lahden kaupunginkirjaston media- ja musiikkiosaston henkilökunta<br>10.30 <strong>Konseptien konsertti — ideoita musiikkikirjastotyön virkistämiseksi</strong>, Lahden AKE-alueen musiikkikirjastolaiset<br>11.20 <strong>Katsaus musiikkikirjastotyön ajankohtaisiin puheenaiheisiin ja tulevaisuuteen</strong>, puhujavieras</p><p>12.00–13.00 Lounas (omakustanteinen)&nbsp;</p><p>13.00 <strong>Musiikkikirjastotyön asiantuntijoiden paneelikeskustelu:</strong> <strong>Kirjasto musiikkiharrastuksen tukena</strong>, fasilitoimassa kirjastonhoitajat Tuija Jerndahl ja Taru Rinkinen, Lahden kaupunginkirjasto<br>14.00 <strong>Osallistujien kysymykset ja keskustelu paneelin teemoista</strong><br>14.30 Iltapäiväkahvit<br>15.00 <strong>Musiikkia, muistoja ja mielikuvia</strong>, kirjastonhoitajat Tuija Jerndahl ja Johanna Nurminen, Lahden kaupunginkirjasto<br>15.30 <strong>Kiitos ja tilaisuuden päätös</strong>, Noora Oluikpe, Lahden AKE</p><p>n. klo 15.45–16.30 Opastettu vapaaehtoinen tutustuminen media- ja musiikkiosaston harrastetiloihin</p><p><a href="https://lahdenake.fi/koulutus/kirjasto-musiikkiharrastuksen-tukena/">Muutokset ovat mahdollisia, koulutusilmoituksen löydät täältä.</a></p><h2><strong>Kohderyhmä ja ilmoittautuminen</strong></h2><p>Tilaisuus sopii musiikkikirjastotyötä tekeville sekä kaikille kirjastonsa musiikkipalveluita pohtiville kirjastolaisille. Mukaan voi tulla ilman erityistä osaamista musiikista tai musiikkikirjastotyöstä. Tilaisuus on suunnattu ensisijaisesti Etelä-Karjalan, Kanta-Hämeen, Kymenlaakson ja Päijät-Hämeen kirjastolaisille, mutta tilaisuuteen voi ilmoittautua muualtakin.</p><p>Ilmoittaudu mukaan viimeistään&nbsp;<strong>24.2.2024 </strong><a href="https://link.webropolsurveys.com/EP/A35EDEB5C8AB99F4">tällä lomakkeella</a>.</p>
LOCATION:Lahden pääkirjasto (Kirkkokatu 31)
END:VEVENT
END:VCALENDAR