BEGIN:VCALENDAR
VERSION:2.0
PRODID:-//kirjastotfi/procal//NONSGML v1.0//EN
BEGIN:VEVENT
DTSTART:20250220T130000
DTEND:20250220T143000
SUMMARY:Lahden AKEn etäkahvit: Mitä kuuluu musiikkikirjastotyölle?
DESCRIPTION:<p>Lahden AKEn järjestämillä kirjastohenkilökunnan etäkahveilla kuullaan alueen kirjastoille tärkeät, ajankohtaiset kuulumiset kirjastoalalta ja yhteistyökumppaneilta. Etäkahvit alkavat AKEn ajakohtaisilla kuulumisilla ja sen jälkeen keskustelemme vieraamme kanssa päivän aiheesta.</p><p>Helmikuun etäkahveilla (20.2. klo 13-14.30) muistutellaan Kirjastoseuran <a href="https://suomenkirjastoseura.fi/ilmoita-kirjastosi-mukaan-kirjaston-paivan-tapahtumaan/?fbclid=IwY2xjawIJcAdleHRuA2FlbQIxMAABHQcXx3B2WtEQIEtWEoUvPpdJZFDD_mzYMV-uleYHGsUCdcof65Pcw54Jbg_aem_JmokcJoZqAABmvOmK-AXCw">Kirjaston päivän tapahtuman järjestämisestä</a> sekä keskustelemme musiikkikirjastotyöstä. Etäkahveille ovat tervetulleita kaikki kirjastolaiset!</p><h2>Mitä kuuluu musiikkikirjastotyölle?</h2><p>Vieraanamme on <a href="https://www.musiikkikirjastot.fi/musiikkipalvelut/suomen-musiikkikirjastoyhdistys/">Suomen musiikkikirjastoyhdistyksen</a> puheenjohtaja <strong>Marko Niemelä</strong>, joka työskentelee Rovaniemen kaupunginkirjastossa asiakaspalvelupäällikkönä sekä musiikkipalveluiden asiantuntijatehtävissä. Niemelä on etnomusikologi ja filosofian tohtori, joka on tutkinut kulttuurihistoriaa ja musiikkikulttuuria menneisyyden äänimaisemien kautta.</p><p>Etäkahvien keskustelu pohjustaa maaliskuun <a href="https://lahdenake.fi/koulutus/kirjasto-musiikkiharrastuksen-tukena/">Kirjasto musiikkiharrastuksen tukena ‑koulutuspäivän</a> teemoja. Molemmat tilaisuudet on suunnattu musiikkikirjastotyön ammattilaisille sekä kaikille, jotka pohtivat oman kirjastonsa musiikkipalveluiden kehittämistä tai virkistämistä helpoilla, pienillä teoilla osana muuta arjen kirjastotyötä.</p><h2>Aikataulu</h2><p>klo 13–13.10 Lahden AKEn ajankohtaiset</p><p>klo 13.10–14 Mitä kuuluu musiikkikirjastotyölle?</p><p>Marko Niemelä ja Noora Oluikpe ohjaavat keskustelua musiikkikirjastotyön teemoista, kuten</p><ul><li>kirjastolähtöiset musiikkitapahtumat</li><li>musiikkikokoelmien kehittäminen</li><li>musiikkikirjallisuuden merkitys</li><li>äänimaisemat ja niiden elämyksellisyys</li></ul><p>klo 14–14.30 Kysymyksille ja kommenteille varattua aikaa</p><p>Keskusteluun saa osallistua vapaasti. Etäkahveille voi tulla mukaan myös vain kuuntelemaan.</p><h2>Osallistuminen</h2><p>Keskusteluihin osallistuminen ei vaadi erityistä osaamista musiikista tai musiikkikirjastotyöstä, ja linjoille saa tulla mukaan myös vain kuuntelemaan.</p><p><a href="https://lahdenake.fi/koulutus/lahden-aken-etakahvit-5/">Linkki etäkahveille lisätään <strong>tälle sivulle.</strong></a></p>
LOCATION:Teams
END:VEVENT
END:VCALENDAR