BEGIN:VCALENDAR
VERSION:2.0
PRODID:-//kirjastotfi/procal//NONSGML v1.0//EN
BEGIN:VEVENT
DTSTART:20250227T150000
DTEND:20250227T160000
SUMMARY:Pohjoismaisia lastenkirjoja vähemmistökirjailijoilta -webinaari (englanniksi)
DESCRIPTION:<p>Webinaarissa Linnea Huhta, Tornedalenista kotoisin oleva luovan alan monilahjakkuus ja Meänkieli-puhuja, kertoo kokemuksistaan kirjailijana, runoilijana ja elokuvatuottajana. Haastattelutyyppisessä webinaarissa tutustutaan Linnean matkaan vähemmistöön kuuluvana luovana tekijänä kulttuurisessa mediamaisemassa. Osallistujilla on myös mahdollisuus osallistua yhteiseen keskusteluun vähemmistöjen tarinoiden edistämisstrategioista. Tilaisuuden kieli on englanti.</p><p><a href="https://kotte.myportfolio.com/webinar-linnea-huhta?fbclid=IwY2xjawIP9oJleHRuA2FlbQIxMQABHarTwNpcyjdgQwITVPyxGgkPhZeAVgp4CTZ6VkyDFvYp2cgJAhD9FO8SMg_aem_pe2TcgY9Jp72RnXhGAliww">Lue lisää ja ilmoittaudu mukaan.</a></p>
LOCATION:
END:VEVENT
END:VCALENDAR