BEGIN:VCALENDAR
VERSION:2.0
PRODID:-//kirjastotfi/procal//NONSGML v1.0//EN
BEGIN:VEVENT
DTSTART:20250218T133000
DTEND:20250218T150000
SUMMARY:Erten etävinkit: Mediataitoviikon jatkot
DESCRIPTION:<p>Erten etävinkeillä 18.2. tutustutaan Espoon kaupunginkirjaston 5.-6. -luokkalaisille suunnattuun tiedonhaun ja lähdekritiikin battleen sekä kuullaan, millaista mediakasvatusta Latviassa tehdään.</p><p>Huom! Etävinkit järjestetään poikkeuksellisesti vasta iltapäivällä.</p><p>Tule mukaan linjoille ja keskustelemaan tai tilaa tallenne!</p><p><strong>OHJELMA 18.2. klo 13.30–15.00</strong></p><p>klo 13.30–13.35<br><strong>Tervetuloa etävinkeille!</strong><br>Outi Kytöniemi, SJK Erte</p><p>klo 13.35–14.05<br><strong>Tiedonhaun ja lähdekritiikin Battle 5.–6. -luokkalaisille</strong><br>Marjukka Peltonen, Espoon kaupunginkirjasto</p><p>klo 14.05–14.10<br>Keskustelua ja kysymyksiä</p><p>klo 14.10–15.00<br><strong>Media education in Latvia (esitys englanniksi)</strong><br>Emils Rotgalvis, National library of Latvia</p><p><a href="https://www.sjkerte.fi/events/erten-etavinkit-mediataitoviikon-jatkot">Ilmoittaudu mukaan SJK Erten kotisivuilla!</a></p><p><em>Webinaari tallennetaan ja linkki tallenteeseen lähetetään kaikille tapahtumapäivään mennessä ilmoittautuneille. Tallenne on katsottavissa 12 päivän ajan. Pidätämme oikeuden muutoksiin.</em></p>
LOCATION:Teams
END:VEVENT
END:VCALENDAR