BEGIN:VCALENDAR
VERSION:2.0
PRODID:-//kirjastotfi/procal//NONSGML v1.0//EN
BEGIN:VEVENT
DTSTART:20250313T091500
DTEND:20250313T143000
SUMMARY:PiKen avoin verkostopäivä: Yhdenvertaisuus digissä, teksteissä ja kokemuksissa
DESCRIPTION:<p><strong>Muistatko vielä monenmoiset digi-, esa- ja lanu-foorumit PiKe-alueellamme tai jäikö viimevuotinen verkostopäivämme sinulta väliin? Näiden tilaisuuksien hengessä kokoonnumme yhteen Juupajoelle PiKe-kirjastojen verkostojen historian toiseen foorumipäivään. Jokainen alueemme kirjastoammattilainen on lämpimästi tervetullut mukaan tapaamaan kollegoita, verkostoitumaan ja kuulemaan ajankohtaisia aiheita digiosaamisessa, saavutettavuusaiheissa sekä lasten- ja nuortenkirjastotyössä!</strong></p><p>Päivän aluksi <a href="https://akepike.fi/wp-content/uploads/2025/01/Verkostojen_pelikirja_onepager_290125.pdf">digi-, esa- ja lanuverkostot</a> pitävät toimintaansa liittyvät kevään toiset kokoukset, joihin kaikki ilmoittautuneet voivat osallistua avoimesti. Aamupäivän aikana verkostot esittelevät ja avaavat <a href="https://akepike.fi/verkostojen-kuuma-linja/">toimintaansa</a> sekä alueemme kirjastoammattilaisille että toisilleen. Iltapäivän osuuksissa työstetään monipuolisen kirjailija-tutkija-nuorisotyöntekijä <strong>Vehka</strong> <strong>Kurjenmiekan</strong> ohjaamana jokaiselle keinoja tukea erilaisten asiakkaiden lukijuutta, kirjoittajuutta ja kirjaston käyttöä verkostojemme edistämissä teemoissa.</p><h2><strong>Aika, paikka ja ilmoittautuminen</strong></h2><p><strong>PiKen avoin verkostopäivä: Yhdenvertaisuus digissä, teksteissä ja kokemuksissa</strong><br><strong>To 13.3.2025 klo 9.15 – 15.30</strong><br><strong>Juupajoen kunnankirjasto, nuorisotila</strong></p><p>I<a href="https://elomake.tampere.fi/lomakkeet/30511/lomake.html">lmoittaudu mukaan ohesta 20.2.2025 mennessä.</a> Tilaisuus toteutuu vain lähitilaisuutena.&nbsp;Kulkeutuminen paikan päälle onnistuu sekä Jyväskylästä että Tampereelta käsin julkisella liikenteellä, reitit osoitteessa <a href="http://vr.fi/">vr.fi</a>.</p><p>Digi-, esa- tai lanuverkostojen jäsen, ilmoittauduthan mukaan jo 13.2.2025 mennessä.</p><h2><strong>Opiskelumateriaalit</strong></h2><p>Tilaisuuden materiaalit löytyvät tilaisuuden jälkeen oheen päivittyvästä, jaetusta kansiosta.</p><h2><strong>Ohjelma</strong></h2><p>7.00-9.00 Liikennöinti Juupajoelle Keski-Suomesta ja Pirkanmaalta lähtöpaikasta riippuen</p><p>9.15-9.30 Aamukahvit (Kehittämiskirjasto tarjoaa)</p><p>9.30-9.45 Verkostojen toiminta ja vuosikello tutuksi /&nbsp;<strong>Verkostojen puheenjohtajat</strong> ja <strong>kehittämiskirjasto</strong></p><p>9.45-11.30 Verkostojen kaikille avoimet kokoukset ja omatoimista tutustumista Juupajoen kirjastoon</p><p>11.30-12.30 Lounas (omakustanteinen)</p><p>12.30-13.15 Virtuaalisia todellisuuksia: Turvallisemmat tilat ja inklusiivisuus teksteissä ja lukijoiden kokemuksissa / <strong>Vehka Kurjenmiekka</strong>, kirjailija, lukijatutkija, nuorisotyöntekijä, pappi</p><p>13.15-13.30 Kahvitauko (Kehittämiskirjasto tarjoaa)</p><p>13.30-14.30 Kirjaston keinoja rohkaista omannäköiseen kirjastonkäyttöön, lukijuuteen ja kirjoittajuuteen / <strong>Vehka Kurjenmiekka</strong> ohjaa työskentelyä</p><p>14.30 Päivä päättyy</p><p>15-16.30 Liikennöinti Juupajoelta Pirkanmaalle ja Keski-Suomeen</p><p><em>Tilaisuuden järjestää Tampereen kaupunginkirjasto. Tampereen kaupunginkirjastolla on alueellinen kehittämistehtävä Pirkanmaan ja Keski-Suomen alueella. Kuvat ja tunnelmat somessa, käytä tunnistetta: #akepike.</em></p><h2><strong>Lisätiedot</strong></h2><p>Koordinaattori Juliaana Grahn<br>juliaana.grahn(a)tampere.fi<br>040 800 7828</p><p>Projektisuunnittelija Mervi Hietanen<br>mervi.hietanen(a)tampere.fi&nbsp;<br>040 800 7821</p><p>Projektisuunnittelija Kaisa Palomäki<br>kaisa.palomaki(a)tampere.fi<br>040 659 3021</p>
LOCATION:Juupajoki
END:VEVENT
END:VCALENDAR