BEGIN:VCALENDAR
VERSION:2.0
PRODID:-//kirjastotfi/procal//NONSGML v1.0//EN
BEGIN:VEVENT
DTSTART:20250409T123000
DTEND:20250409T150000
SUMMARY:Nuorten kohtaaminen kirjastossa 
DESCRIPTION:<p>Kirjastojen henkilökunta kohtaa työssään eri-ikäisiä ja erilaisissa elämäntilanteissa olevia ihmisiä, joiden taustojen ja kokemusmaailman ymmärtämisessä on apua myös kirjastotyössä. Erityisesti nuoret viettävät paljon aikaa kirjastoissa ja aika ajoin heidän kanssaan on myös haastavia vuorovaikutustilanteita. Tässä AKE Porvoon järjestämässä, iltapäivän mittaisessa webinaarissa saat katsauksen nuorten elämään liittyviin ilmiöihin ja pääset pohtimaan kohtaamista ja tilanteiden käsittelyä käytännön esimerkkien kautta.</p><h2>Sisältö&nbsp;</h2><ul><li>Nuorten elämän ajankohtaiset ilmiöt 2025&nbsp;</li><li>Nuorten kohtaaminen ja vuorovaikutustilanteet kirjastoissa&nbsp;</li><li>Tilanteiden käsittely käytännön esimerkkien kautta osallistavasti&nbsp;</li><li>Lyhyt katsaus mihin ohjata nuorta, jonka tilanteesta ollaan huolissaan – linkit paikallisiin palveluihin ja lastensuojeluilmoituksen tekeminen&nbsp;</li></ul><p>Koulutuksen aikana työskennellään Padlet-alustalla.&nbsp;</p><h2>Kouluttajat&nbsp;</h2><p>Kouluttajina toimivat Vamos-valmentaja <strong>Meeri Kokko</strong> ja kehittämispäällikkö <strong>Laura Lempinen </strong>Diakonissalaitoksen Yhdessä elämisen taitokeskuksesta. Diakonissalaitoksella on paljon kokemusta nuorten kohtaamisesta Vamos-toiminnan kautta.&nbsp;</p><h2>Tuleeko tallenne?&nbsp;</h2><p>Koulutuksen luento-osuudesta toteutetaan tallenne (30–45min), joka on saatavilla Libopissa Uudenmaan alustalla kuukauden ajan.&nbsp;Pelkän tallenteen tilaajaksi ei tarvitse ilmoittautua.</p><h2>Kenelle?</h2><p>Koulutus on suunnattu erityisesti kirjastojen asiakaspalvelussa työskenteleville ja nuoria työssään kohtaaville.&nbsp;Koulutukseen on rajallinen määrä paikkoja, joten se on suunnattu ainoastaan Uudenmaan yleisten kirjastojen työntekijöille. Jos haluat vain tallenteen, sinun ei tarvitse ilmoittautua. Tiedotamme kirjastojen yleisiin sähköposteihin, kun tallenne on saatavilla.</p><p><a href="https://link.webropolsurveys.com/EP/1BD682E2A6C72952"><strong>Ilmoittaudu tästä viimeistään 7.4.2025</strong></a></p><h2>Lisätietoja</h2><p><a href="mailto:Elina.Karioja@porvoo.fi">Elina.Karioja@porvoo.fi</a></p><p>&nbsp;</p>
LOCATION:Teams
END:VEVENT
END:VCALENDAR