BEGIN:VCALENDAR
VERSION:2.0
PRODID:-//kirjastotfi/procal//NONSGML v1.0//EN
BEGIN:VEVENT
DTSTART:20250312T090000
DTEND:20250312T110000
SUMMARY:Kokoelmat, poistot ja aineisto nykykirjastossa
DESCRIPTION:<p><span>Tule mukaan kuulemaan pitkän linjan ammattilaisen Pirkko Lindbergin ajatuksista&nbsp; kirjastokokoelmista, niiden poistoista ja kirjastotiloista, mitkä vaikuttavat oleellisesti kokoelman kokoon ja laatuun. Hän käy läpi myös kirjastolain merkitystä kokoelman hoidossa.</span></p>
LOCATION:Teams
END:VEVENT
END:VCALENDAR