BEGIN:VCALENDAR
VERSION:2.0
PRODID:-//kirjastotfi/procal//NONSGML v1.0//EN
BEGIN:VEVENT
DTSTART:20250212T140000
DTEND:20250212T150000
SUMMARY:Lastenkirjakahvit
DESCRIPTION:<p><a>Helmikuun lastenkirjakahvit järjestetään keskiviikkona 12.2. klo 14 Teams-etäyhteydellä.</a></p><p><span>Lastenkirjakahveilla keskustellaan ajankohtaisista lasten- ja nuortenkirjoista. Voit esitellä lukemasi kirjan tai tulla kuuntelemaan, mitä muut ovat lukeneet.</span></p><p><span>Lastenkirjakahvit järjestetään Teams-etäyhteydellä:&nbsp;</span><a href="https://bit.ly/helmikuunlastenkirjakahvit25"><span>https://bit.ly/helmikuunlastenkirjakahvit25</span></a></p><p><span>Lastenkirjakahveille ovat tervetulleita kaikki lasten- ja nuortenkirjallisuudesta kiinnostuneet aikuiset!</span></p>
LOCATION:
END:VEVENT
END:VCALENDAR