BEGIN:VCALENDAR
VERSION:2.0
PRODID:-//kirjastotfi/procal//NONSGML v1.0//EN
BEGIN:VEVENT
DTSTART:20250516T100000
DTEND:20250516T120000
SUMMARY:Ajankohtaista Finnassa
DESCRIPTION:<p><em>Ajankohtaista Finnassa</em> on uusi webinaari<span>, joka kokoaa linjoille kaikki Finnan asiakassektorit – kirjastot, arkistot ja museot. Tilaisuuden avulla pysyt ajan tasalla tärkeimmistä, useaa sektoria koskevista Finnan kehityksen kuulumisista ja muista tärkeistä teemoista.&nbsp;</span></p><p><a href="https://www.kiwi.fi/display/Finna/Ajankohtaista+Finnassa+16.5.2025"><span>Lue lisää ja ilmoittaudu &gt;&gt;</span></a></p>
LOCATION:etätapahtuma
END:VEVENT
END:VCALENDAR