BEGIN:VCALENDAR
VERSION:2.0
PRODID:-//kirjastotfi/procal//NONSGML v1.0//EN
BEGIN:VEVENT
DTSTART:20250327T122000
DTEND:20250327T160000
SUMMARY:Finnan hallintaliittymän kyselytunti
DESCRIPTION:<p><span>Tapahtuma on suunnattu Finnan asiakasorganisaatioiden työntekijöille, jotka käyttävät työssään Finnan hallintaliittymää. Kyselytunnilla&nbsp;käsitellään&nbsp;joko oman näkymän luonnissa tai ylläpidossa esiin tulleita ongelmia sekä muita hallintaliittymän käyttöön liittyviä ajatuksia ja pulmia.</span></p><p><a href="https://www.kiwi.fi/pages/viewpage.action?pageId=457506943"><span>Lue lisää ja ilmoittaudu &gt;&gt;</span></a></p>
LOCATION:etätapahtuma
END:VEVENT
END:VCALENDAR