BEGIN:VCALENDAR
VERSION:2.0
PRODID:-//kirjastotfi/procal//NONSGML v1.0//EN
BEGIN:VEVENT
DTSTART:20250211T095000
DTEND:20250211T143000
SUMMARY:Finnan peruskoulutus
DESCRIPTION:<p><span>Koulutus on suunnattu kirjastojen, arkistojen ja museoiden työntekijöille, joiden tehtävät liittyvät tai tulevat liittymään Finnan käyttöönottoon tai ylläpitoon. Lisäksi koulutukseen ovat tervetulleita sellaisten organisaatioiden työntekijät, jotka vasta harkitsevat Finnaan liittymistä.&nbsp;</span></p><p><span>Esittelemme mm. Finna-palvelun kokonaisuuden, liittymisen vaiheet sekä miten omat aineistot viedään Finnaan.</span></p><p><span>Ennen koulutusta kannattaa tutustua </span><a href="https://www.kiwi.fi/x/sIJnD"><span><strong>Finnan perusteet </strong>-verkkokurssiin</span></a><span>. Se on erityisen hyödyllistä suorittaa joko ennen Finnan peruskoulutusta tai sen jälkeen täydentävänä materiaalina.</span></p><p><a href="https://www.kiwi.fi/display/Finna/Finnan+peruskoulutus+11.2.2025">Lue lisää ja ilmoittaudu koulutukseen</a>.</p>
LOCATION:etätapahtuma
END:VEVENT
END:VCALENDAR