BEGIN:VCALENDAR
VERSION:2.0
PRODID:-//kirjastotfi/procal//NONSGML v1.0//EN
BEGIN:VEVENT
DTSTART:20250131T100000
DTEND:20250131T110000
SUMMARY:Piken verkostokahvit: Ratkaisuista verkostoihin!
DESCRIPTION:<p><strong>PiKe-alueen verkostojen ensimmäiset yhteiset Verkostokahvit! Kokoonnumme perjantaina 31.1. klo 10.00 linjoille etäyhteyksin vaihtamaan ajatuksia kirjastoalan ajankohtaisista asioista. Tervetuloa mukaan kahvittelemaan, keskustelemaan ja oppimaan uutta yhdessä muiden kollegoiden kanssa.&nbsp;☕️</strong></p><p>Verkostokahveilla tutustumme yhdessä kehittämiskirjastomme <a href="https://akepike.fi/wp-content/uploads/2025/01/Verkostojen_pelikirja_onepager_070125.pdf">kolmen alueellisen työryhmän toimintaan</a> ja rakennamme suuntaa tälle upouudelle Verkostokahvien konseptillemme. Mukana on AKE-tiimin lisäksi digiosaamisen, esteettömyys- ja saavutettavuusosaamisen sekä lasten- ja nuortenkirjastotyön puheenjohtajat ja esittelyssä <a href="https://akepike.fi/verkostojen-kuuma-linja/">verkostojen kuumalinja vuodelle 2025</a>. Osallistumalla pääset vaikuttamaan verkostojen kautta tehtävään AKE-toimintaan ja kuulemaan verkostojen ajankohtaiset kuulumiset.</p><h2><strong>Aikataulu ja ohjelma</strong></h2><p><strong>Piken verkostokahvit: Ratkaisuista verkostoihin!</strong><br><strong>Pe 31.1.2025 klo 10-11</strong><br><strong>Etälähetys</strong></p><p>Osallistu ilman ennakkoilmoittautumista osoitteessa akepike.fi.</p><p>Klo 10.00–10.15 Noin viikon kirjastouutiset /<strong> Akepike ja verkostot</strong></p><p>Klo 10.15–10.30 PiKen verkostot esittäytyvät / <strong>Terhi Turkia</strong>, digiverkoston puheenjohtaja, <strong>Maria Rissanen</strong>, esaverkoston puheenjohtaja ja <strong>Marjo Mannila</strong>, lanuverkoston puheenjohtaja (Tampereen kaupunginkirjasto)</p><p>Klo 10.30–11.00 Yhteiset pulinat digi-, esa- ja lanuverkostojen kanssa</p><p><em>Tilaisuuden järjestää Tampereen kaupunginkirjasto. Tampereen kaupunginkirjastolla on alueellinen kehittämistehtävä Pirkanmaan ja Keski-Suomen alueella. Kuvat ja tunnelmat somessa, käytä tunnistetta: #akepike.</em></p><p><strong>Lisätiedot</strong><br><br>Koordinaattori Juliaana Grahn<br>juliaana.grahn(a)tampere.fi<br><br>Projektisuunnittelija Mervi Hietanen<br>mervi.hietanen(a)tampere.fi&nbsp;<br><br>Projektisuunnittelija Kaisa Palomäki<br>kaisa.palomaki(a)tampere.fi</p>
LOCATION:Teams
END:VEVENT
END:VCALENDAR