BEGIN:VCALENDAR
VERSION:2.0
PRODID:-//kirjastotfi/procal//NONSGML v1.0//EN
BEGIN:VEVENT
DTSTART:20250205T100000
DTEND:20250205T113000
SUMMARY:Asiakkaan kohtaaminen PiKe-kirjastoissa – esteettömyys ja saavutettavuus kirjastossa
DESCRIPTION:<p>Mistä puhumme, kun puhumme saavutettavuudesta kirjastossa?&nbsp;<br>Mitä erilaisia sisältöjä tuottavien kirjastoammattilaisten pitäisi tietää saavutettavuudesta? Mitä uutta esteettömyysdirektiivi tuo kirjastoihin?</p><p>Käytännönläheisessä saavutettavuuskoulutuksessa saamme vinkkejä verkkosisältöjen tekijöille ja kuulemme kirjallisuuden saavutettavuudesta. Saavutettavuus ei ole ainoastaan lakisääteinen velvoite, vaan myös tapa edistää tasa-arvoa ja inklusiivisuutta yhteiskunnassa. Saavutettavuus parantaa kaikkien käyttäjäkokemusta myös kirjastossa. Kouluttajanamme on saavutettavuusasiantuntija <strong>Kirsi Ylänne</strong> Celiasta.</p><p><a href="https://elomake.tampere.fi/lomakkeet/30436/lomake.html">Ilmoittaudu mukaan oheisella lomakkeella 29.1.2025 mennessä.</a><br>&nbsp;</p><p>Koulutus tallennetaan. Pääset katsomaan tallenteen ja tutustumaan esitysmateriaaleihin <a href="https://lms.liboppi.fi/course/index.php?categoryid=10">Pirkanmaan ja Keski-Suomen Libopissa</a>. Vuoden 2025 alusta kurssille pääsy edellyttää yleistä kurssiavainta, jonka pääset tilaamaan <a href="https://elomake.tampere.fi/lomakkeet/30233/lomake.html">ohesta</a>. Sama kurssiavain on käytössä kaikilla Liboppi-kursseilla.</p><p><strong>Aikataulu ja ohjelma</strong></p><p><strong>Asiakkaan kohtaaminen PiKe-kirjastoissa – kaikille esteetön ja saavutettava kirjasto</strong><br><strong>Saavutettavuus kirjastossa / Kirsi Ylänne (Celia)</strong><br><strong>Ke 5.2.2024</strong><br><strong>Klo 10.00–11.30</strong><br><strong>Teams</strong></p><p>Koulutus on osa Kohtaava asiakastyö PiKe-kirjastoissa -kokonaisuutta. Saavutettavuuskoulutus tallennetaan Liboppiin, kuten muutkin kokonaisuuden sisällöt.&nbsp;<br><br>Kohtaavan asiakastyön tarjottimelta löydät kaikille Pirkanmaan ja Keski-Suomen kirjastolaisille yhteiset osiot, jotka tunnistat artikkelikuvassa olevasta oranssista PiKen aspa-tarjotin -merkistä. Vuoden 2025 kuluessa kokonaisuus täydentyy. Yhteisten osioiden lisäksi on tulossa vihreällä merkillä varustettuja vapaasti valittavia koulutuksia. Kokonaisuuden teemat ovat alueelta esiin nousseiden koulutustarpeiden mukaisia.</p><p><em>Tilaisuuden järjestää Tampereen kaupunginkirjasto. Tampereen kaupunginkirjastolla on alueellinen kehittämistehtävä Pirkanmaan ja Keski-Suomen alueella. Kuvat ja tunnelmat somessa, käytä tunnistetta: #akepike.</em></p><h2>Lisätiedot</h2><p>Projektisuunnittelija Mervi Hietanen<br>Puh. 040 800 7821 / S-posti:&nbsp;mervi.hietanen(at)tampere.fi</p>
LOCATION:Teams
END:VEVENT
END:VCALENDAR