BEGIN:VCALENDAR
VERSION:2.0
PRODID:-//kirjastotfi/procal//NONSGML v1.0//EN
BEGIN:VEVENT
DTSTART:20250130T100000
DTEND:20250130T130000
SUMMARY:Kirjasaari: aikuiset 
DESCRIPTION:<p><strong>Vuoden parhaat tarinat Kirjasaaressa!</strong></p><p>Kirjasaari on kaikille avoin tapahtumasarja, jossa kirjastojen henkilökunta esittelee edellisen vuoden parhaimmat lasten, nuorten ja aikuisten aineistot. Kirjasaari järjestetään 19. kerran.</p><p>Tänä vuonna tapahtuma on tallenteina, jotka julkaistaan <a href="https://www.youtube.com/@oulun_kaupunginkirjasto">Oulun kaupunginkirjaston YouTube-kanavalla</a> päivittäin klo 10.</p><p>Tiistaina 28.1. lasten aineisto<br>Keskiviikkona 29.1. nuorten aineistot<br>Torstaina 30.1. aikuisten aineistot, musiikki ja pelit</p><p><strong>Aikuisten päivän sisältö:</strong></p><ul><li>Anna Kippola ja Anne Vesala: Rusinat pullasta englanninkielisestä kirjallisuudesta.</li><li>Anna Kippola ja Anne Vesala: Kertomuksia ajasta, tilasta ja lihasta – käännöskaunoa</li><li>Saana Kaleva-Langinkoski: Näkymättömästä maailmasta kohti ikuista elämää – tietokirjoja</li><li>Katja Pietilä: Amelian luut – vuoden 2024 musiikkipoiminnat</li><li>Riikka Huotari: Oman romaaninsa päähenkilöt – autofiktiota</li><li>Hanne Uusitalo ja Heidi-Maria Hekkala: Fantastista kahvia ja scifipullaa</li><li>Juhana Huumonen: Kauhua, musiikkia ja queer-sarjakuvaa</li><li>Eeva-Maria Alatalo: ”Trooppista” rakkautta – romantiikkaa</li><li>Katja Pietilä: Tässä prinsessa pelastaa itsensä – konsolipelejä</li><li>Jaana Märsynaho: Toisen maan tyttäret: Selko- ja muuta proosaa lyhyitä kirjoja kaipaaville</li><li>Salla Kananen ja Elina Kanerva: Kurkistus kuvakirjataivaalle – vuoden 2024 tähdet aikuisille</li><li>Nina Tepsa ja Heidi-Maria Hekkala: Henkiolento olkapäillä – Yliluonnollista kauhua</li></ul><p>&nbsp;</p>
LOCATION:Oulun kaupunginkirjaston YouTube-kanava
END:VEVENT
END:VCALENDAR