BEGIN:VCALENDAR
VERSION:2.0
PRODID:-//kirjastotfi/procal//NONSGML v1.0//EN
BEGIN:VEVENT
DTSTART:20250424T091500
DTEND:20250424T153000
SUMMARY:Fiktiopäivä 25.4.2025 Tampereella
DESCRIPTION:<p>Kirjastoseuran Fiktiotyöryhmä järjestää 25.4. Tampereella Fiktiopäivän teemalla Yleisön suosikit – suuria odotuksia kirjan molemmin puolin. Saimme juuri kirjailijavieraat vahvistettua ja iloksemme ja ylpeydellä voimme esitellä upean esiintyjäkaartin:&nbsp;<strong>Pajtim Statovci</strong>,&nbsp;<strong>Joonatan Tola ja Hanna-Riikka Kuisma!</strong></p><p>Päivän ohjelmassa tutustumme myös helmikuussa julkaistavaan lukutaitotyösuositukseen ja sen ja lukutaitostrategian jalkauttamiseen kirjaston arkeen.</p><p>Ilmoittautuminen Fiktiopäivään on nyt auki, joten äkkiä mukaan. Tavataan huhtikuussa Tampereella!<br><br>Lisätiedot ja ilmoittautuminen: <a href="https://suomenkirjastoseura.fi/tapahtuma/fiktiopaiva-25-4-2025-tampereella/">Fiktiopäivä 25.4.2025 Tampereella – Suomen kirjastoseura</a></p>
LOCATION:Lehmus-sali, pääkirjasto Metso
END:VEVENT
END:VCALENDAR