BEGIN:VCALENDAR
VERSION:2.0
PRODID:-//kirjastotfi/procal//NONSGML v1.0//EN
BEGIN:VEVENT
DTSTART:20250122T140000
DTEND:20250122T150000
SUMMARY:Lastenkirjakahvit
DESCRIPTION:<p>Lastenkirjainstituutin tammikuun lastenkirjakahvit järjestetään keskiviikkona 22.1. klo 14 Teams-etäyhteydellä.</p><p>Lastenkirjakahveilla keskustellaan ajankohtaisista lasten- ja nuortenkirjoista. Voit esitellä lukemasi kirjan tai tulla kuuntelemaan, mitä muut ovat lukeneet.</p><p>Lastenkirjakahvit järjestetään <a href="https://bit.ly/tammikuunlastenkirjakahvit25">Teams-etäyhteydellä</a>.</p><p>Lastenkirjakahveille ovat tervetulleita kaikki lasten- ja nuortenkirjallisuudesta kiinnostuneet aikuiset!</p>
LOCATION:
END:VEVENT
END:VCALENDAR