BEGIN:VCALENDAR
VERSION:2.0
PRODID:-//kirjastotfi/procal//NONSGML v1.0//EN
BEGIN:VEVENT
DTSTART:20250122T120000
DTEND:20250122T160000
SUMMARY:STKS:n webinaari: Robotiikkaa kadulla, kirjastossa ja konttorissa 
DESCRIPTION:<p><span>Robotiksi kutsutaan nykyisin paljon laajempaa ilmiöiden joukkoa kuin ennen. Robotti ei ole vain ihmistä matkiva tekninen laite, vaan se voi olla melkein mikä tahansa automaattisesti tehtävää suorittava ohjelmisto. Kirjastomaailmassa automatiikka on ollut läsnä jo pitkään, mutta on hyvä tarkastella nykytilannetta ja pohtia, mihin kaikkeen tätä teknologiaa voitaisiin tulevaisuudessa hyödyntää. Miten siis hyödynnämme robotteja ja ohjelmistorobotiikkaa kirjastossa ja muilla toimialoilla?&nbsp;</span></p><p><span>Tervetuloa webinaariin </span><strong>Robotiikkaa kadulla, kirjastossa ja konttorissa – ohjelmistorobotiikasta ja roboteista</strong><span>&nbsp;ja tule kuulemaan, miten robotiikkaa on tällä hetkellä sovellettu sekä jakamaan ajatuksia siitä, mitä robotiikka voisi mahdollistaa tulevaisuudessa.</span></p><p><strong>Aika: </strong><span>keskiviikko 22.1.2025 klo 12 – 16</span></p><p><strong>Ohjelma:</strong></p><p><span>12.00 – 12.10 </span>Tervetuloa ja päivän kulku &amp; muu ohjeistus</p><p><span>12.10 – 12.40 </span><strong>Automaatio arjessa: S-ryhmän kokemukset kuljetusroboteista ja robottiavusteisesta&nbsp;keräilystä</strong><span> – Aatos Paloheimo, SOK</span></p><p><span>12.40 – 13.10 Ilmoitetaan myöhemmin (TBA)</span></p><p><span>13.10 – 13.40 </span><strong>Ja kirjat kiertää – kurkistus Finlandia Kirja Oy:n maailmaan </strong>– <span>Matti Pietilä, Finlandia Divari</span></p><p><span>13.45 – 14.15 Tauko</span></p><p><span>14.20 – 14.50 </span><strong>Daisy työkaverina </strong>– <span>Henna Tanhuanpää, Hämeen ammattikorkeakoulu</span></p><p><span>14.50 – 15.30 </span><strong>Ohjelmistorobotiikka Haaga-Heliassa – kokemuksia ja käytänteitä</strong> –<span> Antti Nyqvist ja Jani&nbsp;Väisänen, Haaga-Helia ammattikorkeakoulu</span></p><p><span>15.30 alkaen</span> p<span>äivän purku ja päätös</span></p><p><strong>Osallistumismaksu: </strong><span>Webinaarin hinta on 50 euroa (alv 0&nbsp; %) seuran jäsenille ja 66 euroa (alv 0&nbsp; %) muille osallistujille. Jos organisaatio on yhteisöjäsen, on enintään viiden osallistujan hinta 150 euroa (alv 0&nbsp; %) ja 5 – 10 osallistujan hinta 200 euroa (alv 0&nbsp; %). Viisi ensimmäiseksi ilmoittautunutta seuran opiskelijajäsentä pääsee webinaarin maksutta. Muille opiskelijajäsenille ja seuraan kuulumattomille opiskelijoille hinta on 17,50 euroa.</span></p><p>Suomen kirjastoseuran, Tietojohtaminen ry:n, Informaatiotutkimuksen yhdistys ITY ry:n ja Finlands svenska biblioteksförening r.f:n jäsenet voivat osallistua STKS:n järjestämiin koulutuksiin ja tapahtumiin STKS:n jäsenhinnalla.</p><p><strong>lmoittautuminen:</strong> <a href="https://www.flomembers.com/stks/events/register/d645920e395fedad7bbbed0eca3fe2e0"><span>Ilmoittaudu lomakkeella</span></a><span> viimeistään 20.1.2025. Osallistumisen voi perua 21.1.2025 asti.</span></p><p><span>Webinaarin alusta on Google Meet. Linkki lähetetään ilmoittautuneille edellisenä päivänä. Webinaaria ei tallenneta.</span></p><p><span>Tervetuloa webinaariin!&nbsp;</span></p>
LOCATION:Verkossa
END:VEVENT
END:VCALENDAR