BEGIN:VCALENDAR
VERSION:2.0
PRODID:-//kirjastotfi/procal//NONSGML v1.0//EN
BEGIN:VEVENT
DTSTART:20250130T090000
DTEND:20250130T103000
SUMMARY:Info om funktionärsutbyte
DESCRIPTION:<p>Behöver du nya idéer för ditt arbete, vill du lära dig ett nytt arbetssätt eller är du kanske intresserad av att delta i språkbad eller av att dela med dig av dina kunskaper till ett annat bibliotek? Funktionärsutbytet möjliggör allt detta och mer därtill!</p><p>AKEpampas erbjuder personalen vid allmänna bibliotek i regionen möjlighet att bekanta sig med verksamhetsmodellen vid ett annat bibliotek var som helst i Finland. Vi betalar resor och logi för två arbetsdagar.</p><p><strong>Bara för biblioteksfunktionär i AKEpampas området</strong></p><p>Kom och hör mer om utbytet och ta del av utbyteserfarenheterna!</p><p>Den 30 av januari 2025</p><p>Kl 9:00&nbsp;&nbsp;&nbsp;&nbsp;&nbsp;&nbsp;&nbsp; Päivi Pajala berättar om sina erfarenheter av funktionärsutbyte till Seinäjoki bibliotek (på finska)<br>Kl 9:15&nbsp;&nbsp;&nbsp;&nbsp;&nbsp;&nbsp;&nbsp; Sini Mäkinen berättar om sina erfarenheter av funktionärsutbyte till Vasa bibliotek (på finska)<br>Kl 9:30&nbsp;&nbsp;&nbsp;&nbsp;&nbsp;&nbsp;&nbsp; Leena Kristola berättar om sina erfarenheter av funktionärsutbyte<span>&nbsp;till Karleby bibliotek (på finska)</span></p><p>Kl 9:45&nbsp;&nbsp;&nbsp;&nbsp;&nbsp;&nbsp;&nbsp; Information för deltagare i funktionärsutbyte (på finska)<br>Kl 10:00&nbsp;&nbsp;&nbsp;&nbsp;&nbsp; Information för deltagare i funktionärsutbyte (på svenska)</p><p><a href="https://teams.microsoft.com/l/meetup-join/19%3ameeting_NDQ3N2I3YzQtNTU1Yy00MGM1LTljOWMtYzZhYzVlY2U4ZmEy%40thread.v2/0?context=%7b%22Tid%22%3a%22ca90073c-d8ee-46ec-b57c-b4683bbb42cb%22%2c%22Oid%22%3a%227b2ba0ef-b9f7-4c57-85bd-4dc39e1e0ad0%22%7d">Logga inn här</a></p>
LOCATION:Teams
END:VEVENT
END:VCALENDAR