BEGIN:VCALENDAR
VERSION:2.0
PRODID:-//kirjastotfi/procal//NONSGML v1.0//EN
BEGIN:VEVENT
DTSTART:20250131T090000
DTEND:20250131T160000
SUMMARY:Työkaluja erityisryhmien kohtaamiseen
DESCRIPTION:<ul><li>Miten erilaisia apuvälineitä voi hyödyntää kirjastotyön moninaisissa tilanteissa?</li><li>Millaisia ovat tukiviittomat? Miten voisin hyödyntää kuvakortteja? Mitä erilaisiin oppimisvaikeuksiin liittyvistä apuvälineistä kannattaisi tietää?</li></ul><p>AKE Porvoo järjestää toiminnallisen ja käytännönläheisen koulutuspäivän erilaisten työkalujen ja apuvälineiden hyödyntämisestä moninaisessa kirjastotyössä. Saat päivästä käytännön esimerkkejä työhösi, työskentelitpä kirjaston asiakaspalvelussa tai lasten- ja nuorten kirjastotyössä erilaisten ryhmien parissa.</p><h2>Päivän sisältö</h2><p>Päivän aluksi viittomakielentulkki <strong>Ida Oinonen</strong> kertoo kuvien hyödyntämisestä asiakaskohtaamisissa. Osallistujat pääsevät myös itse kokeilemaan kuvien käyttämistä. Idan jälkeen <strong>Riikka Martikainen</strong> Erilaisten oppijoiden liitosta käsittelee puheenvuorossaan erilaisten oppijoiden ohjaamista kirjastossa. Millaisia apuvälineitä tai menetelmiä voi käyttää esimerkiksi ryhmätilanteissa, kun lapsella tai nuorella on luki- tai oppimisvaikeuksia tai neuropsykiatrisia pulmia?</p><p>Iltapäivällä harjoitellaan kirjastoalaan liittyviä tukiviittomia yhdessä kirjastonhoitajan ja viittomakielentulkin <strong>Sara Kujanpään</strong> kanssa. Kahvin jälkeen kuullaan tietoa viittomakielisestä kirjastosta ja sen tarjoamista palveluista. <strong>Riitta Vivolin-Karén</strong> kertoo myös vinkkejä, miten viittomakielisiä satuhetkiä ja muita tilaisuuksia voisi järjestää. Päivän päätteeksi <strong>Julia Kartesalo</strong> Helsingin kaupunginkirjastosta kertoo kamishibai-teatterin hyödyntämisestä lukutaitotyössä ja vetää pienen tuokion kamishibai-menetelmällä. Kamishibai-teatterissa tarinankertoja kertoo tarinaa suurten kuvakorttien avulla.</p><p>Kamishibai-teatterisalkku tulee myös AKE Porvoon lainattavien materiaalien valikoimaan keväällä 2025.</p><h2>Ohjelma</h2><p>9.00- Aamukahvia tarjolla &nbsp;</p><p>9.15-10.45 Kuvin tuettu asiakaskohtaaminen. Ida Oinonen, viittomakielentulkki, Sivupersoona Oy</p><p>10.45-11 Tauko </p><p>11-12 Erilaiset oppijat asiakkaina, oppimisvaikeuksien huomioiminen ohjaustilanteissa. Riikka Martikainen, erityisasiantuntija, Erilaisten oppijoiden liitto </p><p>12-13 Lounas </p><p>13-14.15 Tukiviittomat kirjastotyössä. Sara Kujanpää, kirjastonhoitaja ja viittomakielentulkki, Tampereen kaupunginkirjasto</p><p>14.15-14.30 Iltapäiväkahvi </p><p>14.30-15 Viittomakielisen kirjaston palvelut yleisille kirjastoille. Riitta Vivolin-Karén, Viittomakielinen kirjasto.</p><p>15-15.45 Kamishibai-teatteri tarinankerronnan välineenä. Julia Kartesalo, Helsingin kaupunginkirjasto</p><p>15.45-16 Loppupohdinta: Mitä aion hyödyntää?</p><h2>Kenelle?</h2><p>Koulutus on suunnattu kaikille Uudenmaan yleisten kirjastojen työntekijöille. Koulutuksesta on hyötyä perusasiakaspalvelun tilanteissa ja esimerkiksi ryhmien ohjaamisessa. Mukaan mahtuu 30 kirjastolaista.</p><h2>Lisätiedot ja ilmoittautuminen</h2><p>Ilmoittaudu mukaan viimeistään 23.1.2025. Ilmoittautumisen yhteydessä voit vielä jättää esiintyjille tarkempia toiveita.</p><p><a href="https://link.webropolsurveys.com/EP/255D44FB3CFE21C5">Ilmoittaudu koulutukseen Työkaluja erityisryhmien kohtaamiseen</a></p><p>&nbsp;</p>
LOCATION:Töölön kirjasto, Topeliuksenkatu 6, Helsinki
END:VEVENT
END:VCALENDAR